BEGIN:VCALENDAR
VERSION:2.0
PRODID:-//St. Andrew&#039;s Episcopal Church - ECPv6.15.20//NONSGML v1.0//EN
CALSCALE:GREGORIAN
METHOD:PUBLISH
X-WR-CALNAME:St. Andrew&#039;s Episcopal Church
X-ORIGINAL-URL:https://standrewspickerington.com
X-WR-CALDESC:Events for St. Andrew&#039;s Episcopal Church
REFRESH-INTERVAL;VALUE=DURATION:PT1H
X-Robots-Tag:noindex
X-PUBLISHED-TTL:PT1H
BEGIN:VTIMEZONE
TZID:America/New_York
BEGIN:DAYLIGHT
TZOFFSETFROM:-0500
TZOFFSETTO:-0400
TZNAME:EDT
DTSTART:20240310T070000
END:DAYLIGHT
BEGIN:STANDARD
TZOFFSETFROM:-0400
TZOFFSETTO:-0500
TZNAME:EST
DTSTART:20241103T060000
END:STANDARD
BEGIN:DAYLIGHT
TZOFFSETFROM:-0500
TZOFFSETTO:-0400
TZNAME:EDT
DTSTART:20250309T070000
END:DAYLIGHT
BEGIN:STANDARD
TZOFFSETFROM:-0400
TZOFFSETTO:-0500
TZNAME:EST
DTSTART:20251102T060000
END:STANDARD
BEGIN:DAYLIGHT
TZOFFSETFROM:-0500
TZOFFSETTO:-0400
TZNAME:EDT
DTSTART:20260308T070000
END:DAYLIGHT
BEGIN:STANDARD
TZOFFSETFROM:-0400
TZOFFSETTO:-0500
TZNAME:EST
DTSTART:20261101T060000
END:STANDARD
END:VTIMEZONE
BEGIN:VEVENT
DTSTART;TZID=America/New_York:20250918T080000
DTEND;TZID=America/New_York:20250920T170000
DTSTAMP:20260424T215806
CREATED:20250613T132826Z
LAST-MODIFIED:20250613T132826Z
UID:1920-1758182400-1758387600@standrewspickerington.com
SUMMARY:2025 Episcopal Creation Care Gathering
DESCRIPTION:Come join in conversation with those steeped in prayer\, theology\, the wild outdoors\, agriculture and the front lines of pollution\, climate change\, biodiversity loss\, and land use. \nTake time to wander over the acres of the Procter Center.\nCome ready to put your feet on the ground and get your hands dirty while contemplating the goodness of the earth and the wonders of creation\, and listening to the Holy Spirit’s call to action. \nThis event is for church leaders\, creation care advocates\, gardeners\, green team members\, formation leaders\, and all those interested in our care of all creation. \nSeptember 18-20\, 2025\nConvenes at 12:30 pm on Thursday\nConcludes by 2 pm on Saturday \nProcter Center\n11235 St. Rt. 38 SE\nLondon\, OH 43140\nproctercenter.org \nGracious God\, the air sings with songs of glory\, water flashes silver with creation\, and the forests bloom with leaves for healing nations. May your light and love fill our hearts and souls and minds\, that we may share your abundant grace with the world. Amen.\n– Collect for the Healing of Creation\, Season of Creation 2024
URL:https://standrewspickerington.com/event/2025-episcopal-creation-care-gathering/
LOCATION:The Procter Center\, 11235 St. Rt. 38 SE\, London\, OH\, 43140\, United States
ATTACH;FMTTYPE=image/jpeg:https://standrewspickerington.com/wp-content/uploads/2025/06/Episcopal-Creation-Care-2025-Gathering-event-hero-imgs-2025.jpg
ORGANIZER;CN="The Procter Center":MAILTO:info@proctercenter.org
END:VEVENT
END:VCALENDAR