BEGIN:VCALENDAR
VERSION:2.0
PRODID:-//St. Andrew&#039;s Episcopal Church - ECPv6.15.20//NONSGML v1.0//EN
CALSCALE:GREGORIAN
METHOD:PUBLISH
X-WR-CALNAME:St. Andrew&#039;s Episcopal Church
X-ORIGINAL-URL:https://standrewspickerington.com
X-WR-CALDESC:Events for St. Andrew&#039;s Episcopal Church
REFRESH-INTERVAL;VALUE=DURATION:PT1H
X-Robots-Tag:noindex
X-PUBLISHED-TTL:PT1H
BEGIN:VTIMEZONE
TZID:America/New_York
BEGIN:DAYLIGHT
TZOFFSETFROM:-0500
TZOFFSETTO:-0400
TZNAME:EDT
DTSTART:20240310T070000
END:DAYLIGHT
BEGIN:STANDARD
TZOFFSETFROM:-0400
TZOFFSETTO:-0500
TZNAME:EST
DTSTART:20241103T060000
END:STANDARD
BEGIN:DAYLIGHT
TZOFFSETFROM:-0500
TZOFFSETTO:-0400
TZNAME:EDT
DTSTART:20250309T070000
END:DAYLIGHT
BEGIN:STANDARD
TZOFFSETFROM:-0400
TZOFFSETTO:-0500
TZNAME:EST
DTSTART:20251102T060000
END:STANDARD
BEGIN:DAYLIGHT
TZOFFSETFROM:-0500
TZOFFSETTO:-0400
TZNAME:EDT
DTSTART:20260308T070000
END:DAYLIGHT
BEGIN:STANDARD
TZOFFSETFROM:-0400
TZOFFSETTO:-0500
TZNAME:EST
DTSTART:20261101T060000
END:STANDARD
END:VTIMEZONE
BEGIN:VEVENT
DTSTART;TZID=America/New_York:20251203T190000
DTEND;TZID=America/New_York:20251203T200000
DTSTAMP:20260424T161612
CREATED:20251128T181559Z
LAST-MODIFIED:20260206T233347Z
UID:2361-1764788400-1764792000@standrewspickerington.com
SUMMARY:Advent Choir Practice
DESCRIPTION:Are you or someone you know interested in singing in the choir but cannot make a long-term commitment to sing?  If so\, then I invite you to consider joining the choir for the Advent/Christmas season.   This is a wonderful time of year to sing songs of preparation and celebration of Christ’s birth. Having additional voices in the choir at this time of year is also very helpful\, as some of our regular members will be gone during the holiday. \nWe especially need lower voices….Basses and Tenors…but any and all voices are welcome!\nThere will be no Choir Rehearsal on Nov. 12th while Eric is on vacation. \nWe will start rehearsing Advent Music on Wednesday\, November 19. \nMusic for Christmas Eve will start December 3.\nThere will not be choir rehearsal the week of Thanksgiving\, November 26th.\nFeel free to contact me if you have any additional questions.\nEric.saupe@standrewspickering.org.  614-506-8101.
URL:https://standrewspickerington.com/event/advent-christmas-choir-practice-120325/
LOCATION:St. Andrew’s Episcopal Church\, 8630 Refugee Road\, Pickerington\, Ohio\, 43147\, United States
ATTACH;FMTTYPE=image/jpeg:https://standrewspickerington.com/wp-content/uploads/2025/04/sta-choir-rehearsal-2025-event-img.jpg
ORGANIZER;CN="St. Andrew%E2%80%99s Episcopal Church":MAILTO:office@standrewspickerington.org
END:VEVENT
END:VCALENDAR