BEGIN:VCALENDAR
VERSION:2.0
PRODID:-//St. Andrew&#039;s Episcopal Church - ECPv6.15.20//NONSGML v1.0//EN
CALSCALE:GREGORIAN
METHOD:PUBLISH
X-WR-CALNAME:St. Andrew&#039;s Episcopal Church
X-ORIGINAL-URL:https://standrewspickerington.com
X-WR-CALDESC:Events for St. Andrew&#039;s Episcopal Church
REFRESH-INTERVAL;VALUE=DURATION:PT1H
X-Robots-Tag:noindex
X-PUBLISHED-TTL:PT1H
BEGIN:VTIMEZONE
TZID:America/New_York
BEGIN:DAYLIGHT
TZOFFSETFROM:-0500
TZOFFSETTO:-0400
TZNAME:EDT
DTSTART:20240310T070000
END:DAYLIGHT
BEGIN:STANDARD
TZOFFSETFROM:-0400
TZOFFSETTO:-0500
TZNAME:EST
DTSTART:20241103T060000
END:STANDARD
BEGIN:DAYLIGHT
TZOFFSETFROM:-0500
TZOFFSETTO:-0400
TZNAME:EDT
DTSTART:20250309T070000
END:DAYLIGHT
BEGIN:STANDARD
TZOFFSETFROM:-0400
TZOFFSETTO:-0500
TZNAME:EST
DTSTART:20251102T060000
END:STANDARD
BEGIN:DAYLIGHT
TZOFFSETFROM:-0500
TZOFFSETTO:-0400
TZNAME:EDT
DTSTART:20260308T070000
END:DAYLIGHT
BEGIN:STANDARD
TZOFFSETFROM:-0400
TZOFFSETTO:-0500
TZNAME:EST
DTSTART:20261101T060000
END:STANDARD
END:VTIMEZONE
BEGIN:VEVENT
DTSTART;TZID=America/New_York:20250622T123000
DTEND;TZID=America/New_York:20250622T183000
DTSTAMP:20260424T215557
CREATED:20250613T132104Z
LAST-MODIFIED:20250613T132104Z
UID:1915-1750595400-1750617000@standrewspickerington.com
SUMMARY:All Saints Juneteenth
DESCRIPTION:RAIN OR SHINE!\nOur Juneteenth celebration returns to All Saints on Sunday\, June 22. We start the day at 12:30pm with African Drumming from Seidu. We’ll have Mass at 1pm followed by an afternoon of music with Urban Jazz Coalition\, Heru Trap Violinist\, The Thiossane West African Dance Company Drumming & Dance\, food trucks and activities. Everyone is welcome! \nThis year we welcome the following:\nAll Saints Garden For All\nDr. Mary Bynum\nDia Mixon\nDiocese of Southern Ohio\, Miriam McKinney\nPrimary Care Solutions\nAfrican American Male Wellness\nBig O’s Grill\nBruster’s Ice Cream\nCasa Hacienda\nFunnel Cake Station\nThe Rib Queen\nUrban Jazz Coalition\nHeru the Trap Violinist\nSeidu\nThiossane Institute West African Dance/Drumming \nAll Saints is located at 5101 Johnstown Road\, New Albany\, Ohio. \nLearn more on their website here.
URL:https://standrewspickerington.com/event/all-saints-juneteenth-2025/
LOCATION:All Saints Episcopal Church\, 5101 Johnstown Rd.\, New Albany\, OH\, 43054\, United States
ATTACH;FMTTYPE=image/webp:https://standrewspickerington.com/wp-content/uploads/2025/06/all-staints-juneteenth-0625-event-hero-img.webp
ORGANIZER;CN="All Staints Episcopal Church":MAILTO:info@allsaintsnewalbany.org
END:VEVENT
END:VCALENDAR