BEGIN:VCALENDAR
VERSION:2.0
PRODID:-//St. Andrew&#039;s Episcopal Church - ECPv6.15.20//NONSGML v1.0//EN
CALSCALE:GREGORIAN
METHOD:PUBLISH
X-WR-CALNAME:St. Andrew&#039;s Episcopal Church
X-ORIGINAL-URL:https://standrewspickerington.com
X-WR-CALDESC:Events for St. Andrew&#039;s Episcopal Church
REFRESH-INTERVAL;VALUE=DURATION:PT1H
X-Robots-Tag:noindex
X-PUBLISHED-TTL:PT1H
BEGIN:VTIMEZONE
TZID:America/New_York
BEGIN:DAYLIGHT
TZOFFSETFROM:-0500
TZOFFSETTO:-0400
TZNAME:EDT
DTSTART:20250309T070000
END:DAYLIGHT
BEGIN:STANDARD
TZOFFSETFROM:-0400
TZOFFSETTO:-0500
TZNAME:EST
DTSTART:20251102T060000
END:STANDARD
BEGIN:DAYLIGHT
TZOFFSETFROM:-0500
TZOFFSETTO:-0400
TZNAME:EDT
DTSTART:20260308T070000
END:DAYLIGHT
BEGIN:STANDARD
TZOFFSETFROM:-0400
TZOFFSETTO:-0500
TZNAME:EST
DTSTART:20261101T060000
END:STANDARD
BEGIN:DAYLIGHT
TZOFFSETFROM:-0500
TZOFFSETTO:-0400
TZNAME:EDT
DTSTART:20270314T070000
END:DAYLIGHT
BEGIN:STANDARD
TZOFFSETFROM:-0400
TZOFFSETTO:-0500
TZNAME:EST
DTSTART:20271107T060000
END:STANDARD
END:VTIMEZONE
BEGIN:VEVENT
DTSTART;VALUE=DATE:20260201
DTEND;VALUE=DATE:20260202
DTSTAMP:20260424T192503
CREATED:20251121T014240Z
LAST-MODIFIED:20260130T225123Z
UID:2351-1769904000-1769990399@standrewspickerington.com
SUMMARY:Annual Meeting
DESCRIPTION:Please plan to stay after church and enjoy a meal together. We will be electing new vestry members and the Jr. Warden. There will be an overview of the last year and the budget for 2026 will be presented. \nDon’t forget to bring food items you signed up to bring!  \nThe Nominating Committee is looking for delegates for the Disocesan Convention to be held on November 20-21\, 2026\,  at the Hilton Polaris Columbus. Hybrid participation is an option once more in 2026 for folks needing to participate in Saturday’s voting portion of our convention from afar. \nWe will vote on a slate of Convention Delegates at this Sunday’s Annual Meeting.\nIf you are interested in attending please contact Keith Hays\, Senior Warden. \nFor those who can’t attend\, here is the info for a zoom call.\nSt. Andrew’s Annual Meeting Time: Feb. 1\, 2026\, 11:30 PM Eastern Time (US and Canada) \nJoin Zoom Meeting\nhttps://us06web.zoom.us/j/87359313977?pwd=BG4RzMf1i5qopBjr2epgeoEAiS3o3L.1 \nMeeting ID: 873 5931 3977\nPasscode: 298895 \nOne tap mobile\n+13052241968\,\,87359313977#\,\,\,\,*298895# US\n+13092053325\,\,87359313977#\,\,\,\,*298895# US\nJoin instructions\nhttps://us06web.zoom.us/meetings/87359313977/invitations?signature=767psnBlfDQFoOI9VXPxIOkchc2_sY9U8ofl9k-xed8 \n======= \nExpectations of Vestry Members: \n\nBe active in the life of the parish by participating in worship\, making a financial commitment to St Andrew’s\, and by being present at parish activities.\nSee your role on the Vestry as fulfilling part of your Baptismal covenant to use your gifts for the building up of the body of Christ.\nAttend vestry meetings\, parish annual and special meetings\, and committee meetings as assigned.\nTreat fellow Vestry members with respect.\nShare your opinions openly in vestry meetings.\nBe flexible and open to other points of view.  Practice active listening.\nSpeak of vestry decisions with one voice to support the mission of the church.\nMaintain Confidentiality.\nMaintain an openness with all parishioners listening to their hopes\, dreams\, and concerns.\nStay informed about parish\, diocesan\, and national church issues.\nHear what the Spirit is saying to God’s people – prayerfully discern a vision for the parish as well as future ministry needs.
URL:https://standrewspickerington.com/event/annual-meeting/
LOCATION:St. Andrew’s Episcopal Church\, 8630 Refugee Road\, Pickerington\, Ohio\, 43147\, United States
ATTACH;FMTTYPE=image/jpeg:https://standrewspickerington.com/wp-content/uploads/2025/11/annual-meeting-0226-sta-event-hero-imgs-2026.jpg
ORGANIZER;CN="St. Andrew%E2%80%99s Episcopal Church":MAILTO:office@standrewspickerington.org
END:VEVENT
END:VCALENDAR