BEGIN:VCALENDAR
VERSION:2.0
PRODID:-//St. Andrew&#039;s Episcopal Church - ECPv6.15.20//NONSGML v1.0//EN
CALSCALE:GREGORIAN
METHOD:PUBLISH
X-WR-CALNAME:St. Andrew&#039;s Episcopal Church
X-ORIGINAL-URL:https://standrewspickerington.com
X-WR-CALDESC:Events for St. Andrew&#039;s Episcopal Church
REFRESH-INTERVAL;VALUE=DURATION:PT1H
X-Robots-Tag:noindex
X-PUBLISHED-TTL:PT1H
BEGIN:VTIMEZONE
TZID:America/New_York
BEGIN:DAYLIGHT
TZOFFSETFROM:-0500
TZOFFSETTO:-0400
TZNAME:EDT
DTSTART:20240310T070000
END:DAYLIGHT
BEGIN:STANDARD
TZOFFSETFROM:-0400
TZOFFSETTO:-0500
TZNAME:EST
DTSTART:20241103T060000
END:STANDARD
BEGIN:DAYLIGHT
TZOFFSETFROM:-0500
TZOFFSETTO:-0400
TZNAME:EDT
DTSTART:20250309T070000
END:DAYLIGHT
BEGIN:STANDARD
TZOFFSETFROM:-0400
TZOFFSETTO:-0500
TZNAME:EST
DTSTART:20251102T060000
END:STANDARD
BEGIN:DAYLIGHT
TZOFFSETFROM:-0500
TZOFFSETTO:-0400
TZNAME:EDT
DTSTART:20260308T070000
END:DAYLIGHT
BEGIN:STANDARD
TZOFFSETFROM:-0400
TZOFFSETTO:-0500
TZNAME:EST
DTSTART:20261101T060000
END:STANDARD
END:VTIMEZONE
BEGIN:VEVENT
DTSTART;TZID=America/New_York:20250622T160000
DTEND;TZID=America/New_York:20250622T183000
DTSTAMP:20260424T234256
CREATED:20250613T125443Z
LAST-MODIFIED:20250613T125443Z
UID:1898-1750608000-1750617000@standrewspickerington.com
SUMMARY:Cappriccio Jubillee Presents “Love & Joy”
DESCRIPTION:Note: Grant sings in this choir \nMore information available here:\nhttps://linworthumc.churchcenter.com/registrations/events/2930251 \nThe Capriccio Jubilee will celebrate the music of Andre Thomas! This contemporary\, African-American composer\, arranger\, educator and conductor has compiled a huge catalog of music over his career and we’ll perform several of his pieces\, along with his major work\, “Mass: A Celebration of Love and Joy”. \nThey will be joined by special guests\, The Milton Ruffin Gospel Chorale\, who will sing the Mass with us and offer several pieces of their own!\nDr Ruffin serves as principal of the Fort Hayes Metropolitan Education Center for Columbus City Schools\, faculty member/director of the gospel choir at The Ohio State University\, and music director at New Salem Baptist Church alongside his wife\, Rev Dr Merlyn Ruffin.
URL:https://standrewspickerington.com/event/cappriccio-jubillee-presents-love-joy/
LOCATION:Linworth UMC\, 7070 Bent Tree Blvd\, Columbus\, 43235\, United States
ATTACH;FMTTYPE=image/jpeg:https://standrewspickerington.com/wp-content/uploads/2025/06/Capriccio-Jubilee.jpg
ORGANIZER;CN="Linworth UMC":MAILTO:info@linworthumc.org
END:VEVENT
END:VCALENDAR