BEGIN:VCALENDAR
VERSION:2.0
PRODID:-//St. Andrew&#039;s Episcopal Church - ECPv6.15.20//NONSGML v1.0//EN
CALSCALE:GREGORIAN
METHOD:PUBLISH
X-WR-CALNAME:St. Andrew&#039;s Episcopal Church
X-ORIGINAL-URL:https://standrewspickerington.com
X-WR-CALDESC:Events for St. Andrew&#039;s Episcopal Church
REFRESH-INTERVAL;VALUE=DURATION:PT1H
X-Robots-Tag:noindex
X-PUBLISHED-TTL:PT1H
BEGIN:VTIMEZONE
TZID:America/New_York
BEGIN:DAYLIGHT
TZOFFSETFROM:-0500
TZOFFSETTO:-0400
TZNAME:EDT
DTSTART:20240310T070000
END:DAYLIGHT
BEGIN:STANDARD
TZOFFSETFROM:-0400
TZOFFSETTO:-0500
TZNAME:EST
DTSTART:20241103T060000
END:STANDARD
BEGIN:DAYLIGHT
TZOFFSETFROM:-0500
TZOFFSETTO:-0400
TZNAME:EDT
DTSTART:20250309T070000
END:DAYLIGHT
BEGIN:STANDARD
TZOFFSETFROM:-0400
TZOFFSETTO:-0500
TZNAME:EST
DTSTART:20251102T060000
END:STANDARD
BEGIN:DAYLIGHT
TZOFFSETFROM:-0500
TZOFFSETTO:-0400
TZNAME:EDT
DTSTART:20260308T070000
END:DAYLIGHT
BEGIN:STANDARD
TZOFFSETFROM:-0400
TZOFFSETTO:-0500
TZNAME:EST
DTSTART:20261101T060000
END:STANDARD
END:VTIMEZONE
BEGIN:VEVENT
DTSTART;TZID=America/New_York:20250830T170000
DTEND;TZID=America/New_York:20250830T190000
DTSTAMP:20260424T190031
CREATED:20250807T215654Z
LAST-MODIFIED:20250807T215755Z
UID:2089-1756573200-1756580400@standrewspickerington.com
SUMMARY:Choir Fall Round-Up\, Cook-out & Rehearsal
DESCRIPTION:We are inviting YOU! Especially if you are joining the Special Flash & Anniversary Choirs! \nSaturday\, August 30th\, 5 -7 PM at Eric’s home\, 31476 Mays Rd\, Logan OH. \nFood & Beverages provided by Current Choir Members. \nRehearsals begin Wed\, Aug 27th at 7 PM.\nWarm-up Rehearsals are Sunday’s at 9:15 AM \nJoining the choir gives you opportunities for care\, prayer and support of one another. We laugh\, cry and pray together.  Rehearsals are not mandatory!
URL:https://standrewspickerington.com/event/choir-fall-round-up-cook-out-rehearsal-083025/
LOCATION:Eric’s Home\, 31476 Mays Rd.\, Logan\, OH\, United States
ATTACH;FMTTYPE=image/jpeg:https://standrewspickerington.com/wp-content/uploads/2025/08/choir-fall-picnic-sta-event-hero-imgs-2025.jpg
ORGANIZER;CN="St. Andrew%E2%80%99s Episcopal Church":MAILTO:office@standrewspickerington.org
END:VEVENT
END:VCALENDAR