BEGIN:VCALENDAR
VERSION:2.0
PRODID:-//St. Andrew&#039;s Episcopal Church - ECPv6.15.20//NONSGML v1.0//EN
CALSCALE:GREGORIAN
METHOD:PUBLISH
X-WR-CALNAME:St. Andrew&#039;s Episcopal Church
X-ORIGINAL-URL:https://standrewspickerington.com
X-WR-CALDESC:Events for St. Andrew&#039;s Episcopal Church
REFRESH-INTERVAL;VALUE=DURATION:PT1H
X-Robots-Tag:noindex
X-PUBLISHED-TTL:PT1H
BEGIN:VTIMEZONE
TZID:America/New_York
BEGIN:DAYLIGHT
TZOFFSETFROM:-0500
TZOFFSETTO:-0400
TZNAME:EDT
DTSTART:20240310T070000
END:DAYLIGHT
BEGIN:STANDARD
TZOFFSETFROM:-0400
TZOFFSETTO:-0500
TZNAME:EST
DTSTART:20241103T060000
END:STANDARD
BEGIN:DAYLIGHT
TZOFFSETFROM:-0500
TZOFFSETTO:-0400
TZNAME:EDT
DTSTART:20250309T070000
END:DAYLIGHT
BEGIN:STANDARD
TZOFFSETFROM:-0400
TZOFFSETTO:-0500
TZNAME:EST
DTSTART:20251102T060000
END:STANDARD
BEGIN:DAYLIGHT
TZOFFSETFROM:-0500
TZOFFSETTO:-0400
TZNAME:EDT
DTSTART:20260308T070000
END:DAYLIGHT
BEGIN:STANDARD
TZOFFSETFROM:-0400
TZOFFSETTO:-0500
TZNAME:EST
DTSTART:20261101T060000
END:STANDARD
END:VTIMEZONE
BEGIN:VEVENT
DTSTART;TZID=America/New_York:20250808T183000
DTEND;TZID=America/New_York:20250808T200000
DTSTAMP:20260424T173124
CREATED:20250719T163217Z
LAST-MODIFIED:20250719T164019Z
UID:1992-1754677800-1754683200@standrewspickerington.com
SUMMARY:Columbus-Area LGBTQ+ Affinity Group Gathering
DESCRIPTION:The affinity group for LGBTQ+ individuals and allies in the Columbus area promotes on-going fellowship and conversation. \nJoin us on Friday\, August 8\, for Franklinton Fridays\, as we explore local art & performance\, community connections & food trucks! \nWe’ll meet at 6:30 p.m. at One Line Coffee-Franklinton\, 471 W. Rich St.\, Columbus OH 43215\, and then continue on for an exploration of all that the Franklinton neighborhood has to offer. \nFor more information\, contact Alex at alex.wenning@gmail.com
URL:https://standrewspickerington.com/event/columbus-area-lgbtq-affinity-group-gathering/
LOCATION:One Line Coffee-Franklinton\, 471 W. Rich St.\, Columbus\, OH\, 43215\, United States
ATTACH;FMTTYPE=image/jpeg:https://standrewspickerington.com/wp-content/uploads/2025/07/DSO_Pride_SHIELD-event-img.jpg
ORGANIZER;CN="Columbus-Area LGBTQ+ Affinity Grouop":MAILTO:alex.wenning@gmail.com
END:VEVENT
END:VCALENDAR