BEGIN:VCALENDAR
VERSION:2.0
PRODID:-//St. Andrew&#039;s Episcopal Church - ECPv6.15.20//NONSGML v1.0//EN
CALSCALE:GREGORIAN
METHOD:PUBLISH
X-WR-CALNAME:St. Andrew&#039;s Episcopal Church
X-ORIGINAL-URL:https://standrewspickerington.com
X-WR-CALDESC:Events for St. Andrew&#039;s Episcopal Church
REFRESH-INTERVAL;VALUE=DURATION:PT1H
X-Robots-Tag:noindex
X-PUBLISHED-TTL:PT1H
BEGIN:VTIMEZONE
TZID:America/New_York
BEGIN:DAYLIGHT
TZOFFSETFROM:-0500
TZOFFSETTO:-0400
TZNAME:EDT
DTSTART:20250309T070000
END:DAYLIGHT
BEGIN:STANDARD
TZOFFSETFROM:-0400
TZOFFSETTO:-0500
TZNAME:EST
DTSTART:20251102T060000
END:STANDARD
BEGIN:DAYLIGHT
TZOFFSETFROM:-0500
TZOFFSETTO:-0400
TZNAME:EDT
DTSTART:20260308T070000
END:DAYLIGHT
BEGIN:STANDARD
TZOFFSETFROM:-0400
TZOFFSETTO:-0500
TZNAME:EST
DTSTART:20261101T060000
END:STANDARD
BEGIN:DAYLIGHT
TZOFFSETFROM:-0500
TZOFFSETTO:-0400
TZNAME:EDT
DTSTART:20270314T070000
END:DAYLIGHT
BEGIN:STANDARD
TZOFFSETFROM:-0400
TZOFFSETTO:-0500
TZNAME:EST
DTSTART:20271107T060000
END:STANDARD
END:VTIMEZONE
BEGIN:VEVENT
DTSTART;TZID=America/New_York:20260405T100000
DTEND;TZID=America/New_York:20260405T113000
DTSTAMP:20260424T203721
CREATED:20260220T161025Z
LAST-MODIFIED:20260403T131657Z
UID:2584-1775383200-1775388600@standrewspickerington.com
SUMMARY:Easter Sunday – 2026 Festival Worship
DESCRIPTION:The tomb is empty! Jesus Christ is risen! Like Mary Magdalene and the other women who went to the tomb we experience the risen Lord and our sadness and weeping come to an end. “Now no more can death appall\, now no more the grave enthrall; You have opened paradise\, and your saints in you shall rise. Alleluia!” At The Lamb’s High Feast We Sing (1982 Hymnal verse3) \nBulletin link:\nhttps://docs.google.com/document/d/1dJuTkCDPL3pNmHT2C35YEKmNYnDnhROB/edit?usp=sharing&ouid=116940911619001104065&rtpof=true&sd=true
URL:https://standrewspickerington.com/event/easter-sunday-2026-festival-worship/
LOCATION:St. Andrew’s Episcopal Church\, 8630 Refugee Road\, Pickerington\, Ohio\, 43147\, United States
ATTACH;FMTTYPE=image/webp:https://standrewspickerington.com/wp-content/uploads/2026/02/easter-sunday-sta-event-hero-img-2026.webp
ORGANIZER;CN="St. Andrew%E2%80%99s Episcopal Church":MAILTO:office@standrewspickerington.org
END:VEVENT
END:VCALENDAR