BEGIN:VCALENDAR
VERSION:2.0
PRODID:-//St. Andrew&#039;s Episcopal Church - ECPv6.15.20//NONSGML v1.0//EN
CALSCALE:GREGORIAN
METHOD:PUBLISH
X-WR-CALNAME:St. Andrew&#039;s Episcopal Church
X-ORIGINAL-URL:https://standrewspickerington.com
X-WR-CALDESC:Events for St. Andrew&#039;s Episcopal Church
REFRESH-INTERVAL;VALUE=DURATION:PT1H
X-Robots-Tag:noindex
X-PUBLISHED-TTL:PT1H
BEGIN:VTIMEZONE
TZID:America/New_York
BEGIN:DAYLIGHT
TZOFFSETFROM:-0500
TZOFFSETTO:-0400
TZNAME:EDT
DTSTART:20240310T070000
END:DAYLIGHT
BEGIN:STANDARD
TZOFFSETFROM:-0400
TZOFFSETTO:-0500
TZNAME:EST
DTSTART:20241103T060000
END:STANDARD
BEGIN:DAYLIGHT
TZOFFSETFROM:-0500
TZOFFSETTO:-0400
TZNAME:EDT
DTSTART:20250309T070000
END:DAYLIGHT
BEGIN:STANDARD
TZOFFSETFROM:-0400
TZOFFSETTO:-0500
TZNAME:EST
DTSTART:20251102T060000
END:STANDARD
BEGIN:DAYLIGHT
TZOFFSETFROM:-0500
TZOFFSETTO:-0400
TZNAME:EDT
DTSTART:20260308T070000
END:DAYLIGHT
BEGIN:STANDARD
TZOFFSETFROM:-0400
TZOFFSETTO:-0500
TZNAME:EST
DTSTART:20261101T060000
END:STANDARD
END:VTIMEZONE
BEGIN:VEVENT
DTSTART;TZID=America/New_York:20250523T173000
DTEND;TZID=America/New_York:20250523T213000
DTSTAMP:20260424T210658
CREATED:20250502T161205Z
LAST-MODIFIED:20250502T161353Z
UID:1700-1748021400-1748035800@standrewspickerington.com
SUMMARY:Episcopal Night at the Symphony – Britten War Requiem
DESCRIPTION:NOTE: Reservations due no later than May 10\, 2025 \nBenjamin Britten\nWar Requiem\nRossen Milanov\, Conductor \n5:30 – Reception\, bar & “Heavy” hor d’oeuvres – 4th Floor.\n2 beverage tickets included – 1 glass of wine = 2 tickets & 1 soda or water = 1  ticket\n7:30pm – Performance – Seats in Prime Orchestra\nPrice is $70.00 per person for the reception\, drink tickets & the concert.\n(regular price for Prime Orchestra is $68.50!)\n$35.00 per person for reception only \nMake checks payable to: The Rev. Bruce Smith; and mail to him at\n627 Yaronia Dr. N Columbus\, OH 43214\nPlease include your e-mail address so we can contact you if we need to.\nPlease include the names of the other folks in your party so we can provide name tags. \nYou can pick up your ticket packets at the reception on the 4th floor Galbreath Pavilion. Come in the CAPA office entrance (southeast) to the theatre NO EARLIER THAN 5:30PM. \nQuestions? Contact Steve Knorr at 1946srk@gmail.com\, the Rev. Gayland Trim at gaylandtrim@hotmail.com  or the Rev. Bruce Smith at revabs0630@gmail.com
URL:https://standrewspickerington.com/event/episcopal-night-at-the-symphony-britten-war-requiem-052325/
LOCATION:Ohio Theatre\, 39 E. State St.\, Columbus\, OH\, 43215\, United States
ATTACH;FMTTYPE=image/jpeg:https://standrewspickerington.com/wp-content/uploads/2025/05/Episcopal-Night-at-the-Symphony-052325-2025-event-img.jpg
END:VEVENT
END:VCALENDAR