BEGIN:VCALENDAR
VERSION:2.0
PRODID:-//St. Andrew&#039;s Episcopal Church - ECPv6.15.20//NONSGML v1.0//EN
CALSCALE:GREGORIAN
METHOD:PUBLISH
X-WR-CALNAME:St. Andrew&#039;s Episcopal Church
X-ORIGINAL-URL:https://standrewspickerington.com
X-WR-CALDESC:Events for St. Andrew&#039;s Episcopal Church
REFRESH-INTERVAL;VALUE=DURATION:PT1H
X-Robots-Tag:noindex
X-PUBLISHED-TTL:PT1H
BEGIN:VTIMEZONE
TZID:America/New_York
BEGIN:DAYLIGHT
TZOFFSETFROM:-0500
TZOFFSETTO:-0400
TZNAME:EDT
DTSTART:20250309T070000
END:DAYLIGHT
BEGIN:STANDARD
TZOFFSETFROM:-0400
TZOFFSETTO:-0500
TZNAME:EST
DTSTART:20251102T060000
END:STANDARD
BEGIN:DAYLIGHT
TZOFFSETFROM:-0500
TZOFFSETTO:-0400
TZNAME:EDT
DTSTART:20260308T070000
END:DAYLIGHT
BEGIN:STANDARD
TZOFFSETFROM:-0400
TZOFFSETTO:-0500
TZNAME:EST
DTSTART:20261101T060000
END:STANDARD
BEGIN:DAYLIGHT
TZOFFSETFROM:-0500
TZOFFSETTO:-0400
TZNAME:EDT
DTSTART:20270314T070000
END:DAYLIGHT
BEGIN:STANDARD
TZOFFSETFROM:-0400
TZOFFSETTO:-0500
TZNAME:EST
DTSTART:20271107T060000
END:STANDARD
END:VTIMEZONE
BEGIN:VEVENT
DTSTART;TZID=America/New_York:20260403T190000
DTEND;TZID=America/New_York:20260403T200000
DTSTAMP:20260424T233514
CREATED:20260220T033054Z
LAST-MODIFIED:20260403T131510Z
UID:2579-1775242800-1775246400@standrewspickerington.com
SUMMARY:Good Friday Liturgy
DESCRIPTION:The Good Friday liturgy marks the day of Christ’s suffering\, crucifixion\, and death and is a continuation of the Maundy Thursday liturgy. We mark the day of Christ’s suffering\, crucifixion\, and death. In John’s passion account\, Jesus reveals the power and glory of God\, even as he is put on trial and sentenced to death. Standing with the disciples at the foot of the cross\, we pray for the whole world in the ancient bidding prayer\, as Christ’s death offers life to all. We share in Holy Communion from the reserved sacrament. We gather in solemn devotion\, but always with the promise that the tree around which we assemble is indeed a tree of life. We depart silently\, and we anticipate the culmination of the Three Days at the Easter Vigil. \nBulletin link:\nhttps://docs.google.com/document/d/1uPZnnGxaB5Vlpu5jqEMllrzbyEEZXOVz/edit?usp=sharing&ouid=116940911619001104065&rtpof=true&sd=true
URL:https://standrewspickerington.com/event/good-friday-2026/
LOCATION:St. Andrew’s Episcopal Church\, 8630 Refugee Road\, Pickerington\, Ohio\, 43147\, United States
ATTACH;FMTTYPE=image/webp:https://standrewspickerington.com/wp-content/uploads/2025/04/good-friday-2025-event-img.webp
ORGANIZER;CN="St. Andrew%E2%80%99s Episcopal Church":MAILTO:office@standrewspickerington.org
END:VEVENT
END:VCALENDAR