BEGIN:VCALENDAR
VERSION:2.0
PRODID:-//St. Andrew&#039;s Episcopal Church - ECPv6.15.20//NONSGML v1.0//EN
CALSCALE:GREGORIAN
METHOD:PUBLISH
X-WR-CALNAME:St. Andrew&#039;s Episcopal Church
X-ORIGINAL-URL:https://standrewspickerington.com
X-WR-CALDESC:Events for St. Andrew&#039;s Episcopal Church
REFRESH-INTERVAL;VALUE=DURATION:PT1H
X-Robots-Tag:noindex
X-PUBLISHED-TTL:PT1H
BEGIN:VTIMEZONE
TZID:America/New_York
BEGIN:DAYLIGHT
TZOFFSETFROM:-0500
TZOFFSETTO:-0400
TZNAME:EDT
DTSTART:20240310T070000
END:DAYLIGHT
BEGIN:STANDARD
TZOFFSETFROM:-0400
TZOFFSETTO:-0500
TZNAME:EST
DTSTART:20241103T060000
END:STANDARD
BEGIN:DAYLIGHT
TZOFFSETFROM:-0500
TZOFFSETTO:-0400
TZNAME:EDT
DTSTART:20250309T070000
END:DAYLIGHT
BEGIN:STANDARD
TZOFFSETFROM:-0400
TZOFFSETTO:-0500
TZNAME:EST
DTSTART:20251102T060000
END:STANDARD
BEGIN:DAYLIGHT
TZOFFSETFROM:-0500
TZOFFSETTO:-0400
TZNAME:EDT
DTSTART:20260308T070000
END:DAYLIGHT
BEGIN:STANDARD
TZOFFSETFROM:-0400
TZOFFSETTO:-0500
TZNAME:EST
DTSTART:20261101T060000
END:STANDARD
END:VTIMEZONE
BEGIN:VEVENT
DTSTART;TZID=America/New_York:20251203T093000
DTEND;TZID=America/New_York:20251203T153000
DTSTAMP:20260424T163147
CREATED:20251109T191346Z
LAST-MODIFIED:20251109T192644Z
UID:2322-1764754200-1764775800@standrewspickerington.com
SUMMARY:Juliet's Journeys - Morgan House and Baker’s Village – RSVP by Nov. 30
DESCRIPTION:Where: Morgan House and Baker’s Village\nBring your shopping $$ – there will be lots to choose from at both the Morgan House and Baker’s Village! \nLunch: Morgan House\, 5300 Glick Rd.\, Dublin\, Oh. 43017\, 614-889-0037\, Opens 11:00 AM (We will put reservations in once we arrive)\nWe will leave the church at 9:40am. Please respond if you can be a driver.\nRSVP by November 30th to Brenda’s email.\nIf you did not receive Brenda’s email\, please contact her at 614-561-2444.
URL:https://standrewspickerington.com/event/juliets-journeys-morgan-house-and-bakers-village/
LOCATION:Morgan House\, 5300 Glick Rd.\, Dublin\, Ohio\, 43017
ATTACH;FMTTYPE=image/jpeg:https://standrewspickerington.com/wp-content/uploads/2025/11/morgan-house-sta-event-hero-imgs-2025.jpg
ORGANIZER;CN="St. Andrew%E2%80%99s Episcopal Church":MAILTO:office@standrewspickerington.org
END:VEVENT
END:VCALENDAR