BEGIN:VCALENDAR
VERSION:2.0
PRODID:-//St. Andrew&#039;s Episcopal Church - ECPv6.15.20//NONSGML v1.0//EN
CALSCALE:GREGORIAN
METHOD:PUBLISH
X-WR-CALNAME:St. Andrew&#039;s Episcopal Church
X-ORIGINAL-URL:https://standrewspickerington.com
X-WR-CALDESC:Events for St. Andrew&#039;s Episcopal Church
REFRESH-INTERVAL;VALUE=DURATION:PT1H
X-Robots-Tag:noindex
X-PUBLISHED-TTL:PT1H
BEGIN:VTIMEZONE
TZID:America/New_York
BEGIN:DAYLIGHT
TZOFFSETFROM:-0500
TZOFFSETTO:-0400
TZNAME:EDT
DTSTART:20250309T070000
END:DAYLIGHT
BEGIN:STANDARD
TZOFFSETFROM:-0400
TZOFFSETTO:-0500
TZNAME:EST
DTSTART:20251102T060000
END:STANDARD
BEGIN:DAYLIGHT
TZOFFSETFROM:-0500
TZOFFSETTO:-0400
TZNAME:EDT
DTSTART:20260308T070000
END:DAYLIGHT
BEGIN:STANDARD
TZOFFSETFROM:-0400
TZOFFSETTO:-0500
TZNAME:EST
DTSTART:20261101T060000
END:STANDARD
BEGIN:DAYLIGHT
TZOFFSETFROM:-0500
TZOFFSETTO:-0400
TZNAME:EDT
DTSTART:20270314T070000
END:DAYLIGHT
BEGIN:STANDARD
TZOFFSETFROM:-0400
TZOFFSETTO:-0500
TZNAME:EST
DTSTART:20271107T060000
END:STANDARD
END:VTIMEZONE
BEGIN:VEVENT
DTSTART;VALUE=DATE:20260517
DTEND;VALUE=DATE:20260518
DTSTAMP:20260424T115514
CREATED:20260117T180035Z
LAST-MODIFIED:20260117T180035Z
UID:2477-1778976000-1779062399@standrewspickerington.com
SUMMARY:Meal Ministry
DESCRIPTION:We will leave for Trinity on Capital Square after church that day.\nFuture dates: 7/19; 12/20. \nThank you to Steve Knorr for leading this out and thank you to everyone who continues to help with this ministry!
URL:https://standrewspickerington.com/event/meal-ministry-051726/
LOCATION:Trinity Capitol Square\, 125 E Broad St.\, Columbus\, 43215\, United States
ATTACH;FMTTYPE=image/jpeg:https://standrewspickerington.com/wp-content/uploads/2025/05/meal-ministry-2025-event-img.jpg
ORGANIZER;CN="St. Andrew%E2%80%99s Episcopal Church":MAILTO:office@standrewspickerington.org
END:VEVENT
END:VCALENDAR