BEGIN:VCALENDAR
VERSION:2.0
PRODID:-//St. Andrew&#039;s Episcopal Church - ECPv6.15.20//NONSGML v1.0//EN
CALSCALE:GREGORIAN
METHOD:PUBLISH
X-WR-CALNAME:St. Andrew&#039;s Episcopal Church
X-ORIGINAL-URL:https://standrewspickerington.com
X-WR-CALDESC:Events for St. Andrew&#039;s Episcopal Church
REFRESH-INTERVAL;VALUE=DURATION:PT1H
X-Robots-Tag:noindex
X-PUBLISHED-TTL:PT1H
BEGIN:VTIMEZONE
TZID:America/New_York
BEGIN:DAYLIGHT
TZOFFSETFROM:-0500
TZOFFSETTO:-0400
TZNAME:EDT
DTSTART:20240310T070000
END:DAYLIGHT
BEGIN:STANDARD
TZOFFSETFROM:-0400
TZOFFSETTO:-0500
TZNAME:EST
DTSTART:20241103T060000
END:STANDARD
BEGIN:DAYLIGHT
TZOFFSETFROM:-0500
TZOFFSETTO:-0400
TZNAME:EDT
DTSTART:20250309T070000
END:DAYLIGHT
BEGIN:STANDARD
TZOFFSETFROM:-0400
TZOFFSETTO:-0500
TZNAME:EST
DTSTART:20251102T060000
END:STANDARD
BEGIN:DAYLIGHT
TZOFFSETFROM:-0500
TZOFFSETTO:-0400
TZNAME:EDT
DTSTART:20260308T070000
END:DAYLIGHT
BEGIN:STANDARD
TZOFFSETFROM:-0400
TZOFFSETTO:-0500
TZNAME:EST
DTSTART:20261101T060000
END:STANDARD
END:VTIMEZONE
BEGIN:VEVENT
DTSTART;TZID=America/New_York:20250519T100000
DTEND;TZID=America/New_York:20250519T110000
DTSTAMP:20260424T175342
CREATED:20250509T140037Z
LAST-MODIFIED:20250509T170537Z
UID:1788-1747648800-1747652400@standrewspickerington.com
SUMMARY:Monday Morning Prayer
DESCRIPTION:Prayer Cards\nPrayer Cards are in the back of the sanctuary.\nTo request a prayer\, add your requests/thanksgivings and put them in the Prayer Box on the table. \nPrayer Net\nWe pray when they are sent requests/thanksgivings. \nWould you like to join us? \nPlease email Elaine at prayer@standrewspickerington.org. \nPrayer During Worship\nA “Prayer Warrior” is available in the Chapel in the back of the church to pray with you during Eucharist.\nWe need volunteers for this Ministry!  \n“Rejoice always\, pray continually\, give thanks in all circumstances; for this is God’s will for you in Christ Jesus.”\n1 Thess. 5:16-1
URL:https://standrewspickerington.com/event/monday-morning-prayer-051925/
LOCATION:St. Andrew’s Episcopal Church\, 8630 Refugee Road\, Pickerington\, Ohio\, 43147\, United States
ATTACH;FMTTYPE=image/jpeg:https://standrewspickerington.com/wp-content/uploads/2025/05/monday-morning-prayer-2025-event-img.jpg
ORGANIZER;CN="St. Andrew%E2%80%99s Episcopal Church":MAILTO:office@standrewspickerington.org
END:VEVENT
END:VCALENDAR