BEGIN:VCALENDAR
VERSION:2.0
PRODID:-//St. Andrew&#039;s Episcopal Church - ECPv6.15.20//NONSGML v1.0//EN
CALSCALE:GREGORIAN
METHOD:PUBLISH
X-WR-CALNAME:St. Andrew&#039;s Episcopal Church
X-ORIGINAL-URL:https://standrewspickerington.com
X-WR-CALDESC:Events for St. Andrew&#039;s Episcopal Church
REFRESH-INTERVAL;VALUE=DURATION:PT1H
X-Robots-Tag:noindex
X-PUBLISHED-TTL:PT1H
BEGIN:VTIMEZONE
TZID:America/New_York
BEGIN:DAYLIGHT
TZOFFSETFROM:-0500
TZOFFSETTO:-0400
TZNAME:EDT
DTSTART:20250309T070000
END:DAYLIGHT
BEGIN:STANDARD
TZOFFSETFROM:-0400
TZOFFSETTO:-0500
TZNAME:EST
DTSTART:20251102T060000
END:STANDARD
BEGIN:DAYLIGHT
TZOFFSETFROM:-0500
TZOFFSETTO:-0400
TZNAME:EDT
DTSTART:20260308T070000
END:DAYLIGHT
BEGIN:STANDARD
TZOFFSETFROM:-0400
TZOFFSETTO:-0500
TZNAME:EST
DTSTART:20261101T060000
END:STANDARD
BEGIN:DAYLIGHT
TZOFFSETFROM:-0500
TZOFFSETTO:-0400
TZNAME:EDT
DTSTART:20270314T070000
END:DAYLIGHT
BEGIN:STANDARD
TZOFFSETFROM:-0400
TZOFFSETTO:-0500
TZNAME:EST
DTSTART:20271107T060000
END:STANDARD
END:VTIMEZONE
BEGIN:VEVENT
DTSTART;TZID=America/New_York:20260716T183000
DTEND;TZID=America/New_York:20260716T200000
DTSTAMP:20260424T113502
CREATED:20260306T173006Z
LAST-MODIFIED:20260306T173006Z
UID:2627-1784226600-1784232000@standrewspickerington.com
SUMMARY:Monthly Bible Study – Faithful Females\, but Forgotten
DESCRIPTION:Monthly Bible Study (3rd Thursday of each month) \n6:30 – 8:00 PM.\nLed by Colleen Thesing.\nDo you like to read stories about strong\, courageous\, devoted faithful women?  How about stories of love\, marriage\, friendship\, family relationships\, leaders\, royalty?  I’m referring to women in the Bible. Come to our monthly Bible Study on women of the Bible. No homework. No prior knowledge of the stories required. Just come\, relax\, enjoy and learn lessons from these women that we can apply to our lives today.
URL:https://standrewspickerington.com/event/monthly-bible-study-faithful-females-but-forgotten-0726/
LOCATION:St. Andrew’s Episcopal Church\, 8630 Refugee Road\, Pickerington\, Ohio\, 43147\, United States
ATTACH;FMTTYPE=image/webp:https://standrewspickerington.com/wp-content/uploads/2026/03/women-of-the-bible-study-sta-event-hero-img-2026.webp
ORGANIZER;CN="St. Andrew%E2%80%99s Episcopal Church":MAILTO:office@standrewspickerington.org
END:VEVENT
END:VCALENDAR