BEGIN:VCALENDAR
VERSION:2.0
PRODID:-//St. Andrew&#039;s Episcopal Church - ECPv6.15.20//NONSGML v1.0//EN
CALSCALE:GREGORIAN
METHOD:PUBLISH
X-WR-CALNAME:St. Andrew&#039;s Episcopal Church
X-ORIGINAL-URL:https://standrewspickerington.com
X-WR-CALDESC:Events for St. Andrew&#039;s Episcopal Church
REFRESH-INTERVAL;VALUE=DURATION:PT1H
X-Robots-Tag:noindex
X-PUBLISHED-TTL:PT1H
BEGIN:VTIMEZONE
TZID:America/New_York
BEGIN:DAYLIGHT
TZOFFSETFROM:-0500
TZOFFSETTO:-0400
TZNAME:EDT
DTSTART:20240310T070000
END:DAYLIGHT
BEGIN:STANDARD
TZOFFSETFROM:-0400
TZOFFSETTO:-0500
TZNAME:EST
DTSTART:20241103T060000
END:STANDARD
BEGIN:DAYLIGHT
TZOFFSETFROM:-0500
TZOFFSETTO:-0400
TZNAME:EDT
DTSTART:20250309T070000
END:DAYLIGHT
BEGIN:STANDARD
TZOFFSETFROM:-0400
TZOFFSETTO:-0500
TZNAME:EST
DTSTART:20251102T060000
END:STANDARD
BEGIN:DAYLIGHT
TZOFFSETFROM:-0500
TZOFFSETTO:-0400
TZNAME:EDT
DTSTART:20260308T070000
END:DAYLIGHT
BEGIN:STANDARD
TZOFFSETFROM:-0400
TZOFFSETTO:-0500
TZNAME:EST
DTSTART:20261101T060000
END:STANDARD
END:VTIMEZONE
BEGIN:VEVENT
DTSTART;TZID=America/New_York:20250902T190000
DTEND;TZID=America/New_York:20250902T203000
DTSTAMP:20260424T160731
CREATED:20250711T170042Z
LAST-MODIFIED:20250711T170348Z
UID:1980-1756839600-1756845000@standrewspickerington.com
SUMMARY:Summer Beloved Community Book Study of "Jesus and the Disinherited"\, by Howard Thurman – Continued
DESCRIPTION:“Famously known as the text that Martin Luther King Jr. sought inspiration from in the days leading up to the Montgomery bus boycott\, Howard Thurman’s Jesus and the Disinherited helped shape the civil rights movement and changed our nation’s history forever.” \nJuly 1: forewords & Chapter 1 \nAugust 5: Chapters 2&3 \nSeptember 2: Chapters 4 & 5 & Epilogue \nReading the book is not mandatory for this book study! Whether you read a few pages or the whole book\, our conversation will be better with you there. Just prepare for spoilers! We’ll talk about the book—our favorite parts\, where we see ourselves\, and what this book has to do with us\, our faith communities\, and our diocese.\nJoin us to discuss texts vital to our understanding of the beloved community in the Diocese of Southern Ohio and beyond. \nQuestions about this diocesan program?\nContact Miriam McKenney\, missioner for Beloved Community\, at mmckenney@diosohio.org. \nAll Beloved Community Book Study sessions will take place on Zoom. \nThere is no cost to participate in the Beloved Community Book Study. Please RSVP to receive your Zoom link and to request the book.
URL:https://standrewspickerington.com/event/summer-beloved-community-book-study-of-jesus-and-the-disinherited-day-2/
ATTACH;FMTTYPE=image/jpeg:https://standrewspickerington.com/wp-content/uploads/2025/05/Diocese-of-Southern-Ohio-event-2025-event-img.jpg
END:VEVENT
END:VCALENDAR