BEGIN:VCALENDAR
VERSION:2.0
PRODID:-//St. Andrew&#039;s Episcopal Church - ECPv6.15.20//NONSGML v1.0//EN
CALSCALE:GREGORIAN
METHOD:PUBLISH
X-WR-CALNAME:St. Andrew&#039;s Episcopal Church
X-ORIGINAL-URL:https://standrewspickerington.com
X-WR-CALDESC:Events for St. Andrew&#039;s Episcopal Church
REFRESH-INTERVAL;VALUE=DURATION:PT1H
X-Robots-Tag:noindex
X-PUBLISHED-TTL:PT1H
BEGIN:VTIMEZONE
TZID:America/New_York
BEGIN:DAYLIGHT
TZOFFSETFROM:-0500
TZOFFSETTO:-0400
TZNAME:EDT
DTSTART:20240310T070000
END:DAYLIGHT
BEGIN:STANDARD
TZOFFSETFROM:-0400
TZOFFSETTO:-0500
TZNAME:EST
DTSTART:20241103T060000
END:STANDARD
BEGIN:DAYLIGHT
TZOFFSETFROM:-0500
TZOFFSETTO:-0400
TZNAME:EDT
DTSTART:20250309T070000
END:DAYLIGHT
BEGIN:STANDARD
TZOFFSETFROM:-0400
TZOFFSETTO:-0500
TZNAME:EST
DTSTART:20251102T060000
END:STANDARD
BEGIN:DAYLIGHT
TZOFFSETFROM:-0500
TZOFFSETTO:-0400
TZNAME:EDT
DTSTART:20260308T070000
END:DAYLIGHT
BEGIN:STANDARD
TZOFFSETFROM:-0400
TZOFFSETTO:-0500
TZNAME:EST
DTSTART:20261101T060000
END:STANDARD
END:VTIMEZONE
BEGIN:VEVENT
DTSTART;TZID=America/New_York:20250503T100000
DTEND;TZID=America/New_York:20250503T150000
DTSTAMP:20260424T193218
CREATED:20250502T153121Z
LAST-MODIFIED:20250502T153121Z
UID:1683-1746266400-1746284400@standrewspickerington.com
SUMMARY:UA Culture & Artisans Fair
DESCRIPTION:The event will feature approximately 20 artisans from all over the world\, showcasing and selling their handmade items\, as well as delicious food and live music\, and an opportunity to interact with the artisans and hear their stories. \nThe Fair is being presented in partnership with CRIS (Community Refugee and Immigration Services) and many of the artisans will be refugees\, asylum seekers and others building a new life in the Central Ohio area. \nCome and explore a variety of arts and crafts from all over the world\, have fun\, and help us welcome and support some of our new neighbors. \nSaint Mark’s is located at 2151 Dorset Road\, Upper Arlington. The Fair will take place on the front lawn of church\, at the corner of Dorset and Tremont Roads. Rain or shine.
URL:https://standrewspickerington.com/event/ua-culture-artisans-fair-050325/
LOCATION:St. Mark’s Episcopal Church\, 2151 Dorset Road\, Columbus\, OH\, 43221\, United States
ATTACH;FMTTYPE=image/jpeg:https://standrewspickerington.com/wp-content/uploads/2025/05/StMarks-USCultureFair-05-2025-event-img.jpg
ORGANIZER;CN="St. Mark's Episcopal Church":MAILTO:info@saintmarkscolumbus.org
END:VEVENT
END:VCALENDAR