BEGIN:VCALENDAR
VERSION:2.0
PRODID:-//St. Andrew&#039;s Episcopal Church - ECPv6.15.20//NONSGML v1.0//EN
CALSCALE:GREGORIAN
METHOD:PUBLISH
X-WR-CALNAME:St. Andrew&#039;s Episcopal Church
X-ORIGINAL-URL:https://standrewspickerington.com
X-WR-CALDESC:Events for St. Andrew&#039;s Episcopal Church
REFRESH-INTERVAL;VALUE=DURATION:PT1H
X-Robots-Tag:noindex
X-PUBLISHED-TTL:PT1H
BEGIN:VTIMEZONE
TZID:America/New_York
BEGIN:DAYLIGHT
TZOFFSETFROM:-0500
TZOFFSETTO:-0400
TZNAME:EDT
DTSTART:20240310T070000
END:DAYLIGHT
BEGIN:STANDARD
TZOFFSETFROM:-0400
TZOFFSETTO:-0500
TZNAME:EST
DTSTART:20241103T060000
END:STANDARD
BEGIN:DAYLIGHT
TZOFFSETFROM:-0500
TZOFFSETTO:-0400
TZNAME:EDT
DTSTART:20250309T070000
END:DAYLIGHT
BEGIN:STANDARD
TZOFFSETFROM:-0400
TZOFFSETTO:-0500
TZNAME:EST
DTSTART:20251102T060000
END:STANDARD
BEGIN:DAYLIGHT
TZOFFSETFROM:-0500
TZOFFSETTO:-0400
TZNAME:EDT
DTSTART:20260308T070000
END:DAYLIGHT
BEGIN:STANDARD
TZOFFSETFROM:-0400
TZOFFSETTO:-0500
TZNAME:EST
DTSTART:20261101T060000
END:STANDARD
END:VTIMEZONE
BEGIN:VEVENT
DTSTART;TZID=America/New_York:20251211T063000
DTEND;TZID=America/New_York:20251211T193000
DTSTAMP:20260424T161122
CREATED:20250902T133552Z
LAST-MODIFIED:20250902T133620Z
UID:2155-1765434600-1765481400@standrewspickerington.com
SUMMARY:Unwrapping Christmas
DESCRIPTION:Thursday evenings\nDecember 11 and 18\n6:30pm – 7:30pm \nFor most of us\, the Christmas story is woven into our emotional fiber as well as our spiritual DNA. But has the relentless commercialization of the manger scene obscured the transforming power of what really happened on that starry starry night? Beginning Nov 13 at 6:30 p.m.\, and continuing for five weeks\, join Pastors Sally and Jim for conversation that may challenge and invigorate your perspective on an ancient tale.
URL:https://standrewspickerington.com/event/unwrapping-christmas-121125/
LOCATION:St. Andrew’s Episcopal Church\, 8630 Refugee Road\, Pickerington\, Ohio\, 43147\, United States
ATTACH;FMTTYPE=image/jpeg:https://standrewspickerington.com/wp-content/uploads/2025/09/unwrapping-christmas-2025-sta-event-hero-imgs-2025.jpg
ORGANIZER;CN="St. Andrew%E2%80%99s Episcopal Church":MAILTO:office@standrewspickerington.org
END:VEVENT
END:VCALENDAR