BEGIN:VCALENDAR
VERSION:2.0
PRODID:-//St. Andrew&#039;s Episcopal Church - ECPv6.15.20//NONSGML v1.0//EN
CALSCALE:GREGORIAN
METHOD:PUBLISH
X-ORIGINAL-URL:https://standrewspickerington.com
X-WR-CALDESC:Events for St. Andrew&#039;s Episcopal Church
REFRESH-INTERVAL;VALUE=DURATION:PT1H
X-Robots-Tag:noindex
X-PUBLISHED-TTL:PT1H
BEGIN:VTIMEZONE
TZID:America/New_York
BEGIN:DAYLIGHT
TZOFFSETFROM:-0500
TZOFFSETTO:-0400
TZNAME:EDT
DTSTART:20240310T070000
END:DAYLIGHT
BEGIN:STANDARD
TZOFFSETFROM:-0400
TZOFFSETTO:-0500
TZNAME:EST
DTSTART:20241103T060000
END:STANDARD
BEGIN:DAYLIGHT
TZOFFSETFROM:-0500
TZOFFSETTO:-0400
TZNAME:EDT
DTSTART:20250309T070000
END:DAYLIGHT
BEGIN:STANDARD
TZOFFSETFROM:-0400
TZOFFSETTO:-0500
TZNAME:EST
DTSTART:20251102T060000
END:STANDARD
BEGIN:DAYLIGHT
TZOFFSETFROM:-0500
TZOFFSETTO:-0400
TZNAME:EDT
DTSTART:20260308T070000
END:DAYLIGHT
BEGIN:STANDARD
TZOFFSETFROM:-0400
TZOFFSETTO:-0500
TZNAME:EST
DTSTART:20261101T060000
END:STANDARD
END:VTIMEZONE
BEGIN:VEVENT
DTSTART;TZID=America/New_York:20251102T170000
DTEND;TZID=America/New_York:20251102T180000
DTSTAMP:20260424T203743
CREATED:20251027T150728Z
LAST-MODIFIED:20251027T151202Z
UID:2265-1762102800-1762106400@standrewspickerington.com
SUMMARY:Proud Episcopalian – Line Dancing
DESCRIPTION:Columbus-Area LGBTQ+ Affinity Group\nJoin us for Line Dancing with the Trailblazers at Stonewall Columbus (1160 N High St\, Columbus OH 43201). Put on your boots and kick up your heels for this adventure! No experience necessary—just come to have a great time together. Doors open at 4:45pm. Contact Alex at lgbtq-columbus@diosohio.org for more information.
URL:https://standrewspickerington.com/event/proud-episcopalian-line-dancing-110225/
LOCATION:Stonewall Columbus\, 1160 North High Street\, Columbus\, OH\, 436201\, United States
ATTACH;FMTTYPE=image/webp:https://standrewspickerington.com/wp-content/uploads/2025/10/TB-Line-Dance_Z-Boyer-1536x768-1.webp
ORGANIZER;CN="Columbus-Area LGBTQ+ Affinity Grouop":MAILTO:alex.wenning@gmail.com
END:VEVENT
BEGIN:VEVENT
DTSTART;TZID=America/New_York:20251103T190000
DTEND;TZID=America/New_York:20251103T200000
DTSTAMP:20260424T203743
CREATED:20251027T145048Z
LAST-MODIFIED:20251027T150450Z
UID:2263-1762196400-1762200000@standrewspickerington.com
SUMMARY:Beloved Community October-December Book Study
DESCRIPTION:Beloved Community Book Study of “Homegoing”\, by Yaa Gyasi\, continues\, 7 pm on Zoom.\nRegister on Diocesan website.
URL:https://standrewspickerington.com/event/beloved-community-october-december-book-study-1125/
LOCATION:Diocese of Southern Ohio\, 412 Sycamore Street\, Cincinnati\, OH\, 45202\, United States
ATTACH;FMTTYPE=image/jpeg:https://standrewspickerington.com/wp-content/uploads/2025/05/Diocese-of-Southern-Ohio-event-2025-event-img.jpg
END:VEVENT
BEGIN:VEVENT
DTSTART;TZID=America/New_York:20251106T180000
DTEND;TZID=America/New_York:20251106T200000
DTSTAMP:20260424T203743
CREATED:20250926T164542Z
LAST-MODIFIED:20250926T164821Z
UID:2206-1762452000-1762459200@standrewspickerington.com
SUMMARY:Dismantling Racism Training – November Series
DESCRIPTION:Receive the canonically required anti-racism certification by completing this course via Zoom with Miriam McKenney\, Missioner for Beloved Community\, and co-leaders. Miriam uses picture books in this training to discover\, explore\, discuss\, and share stories. We’ll explore topics you may not have learned about in your formal education but are crucial to our understanding as we work to repair\, heal\, and see God in each other. \nThis course is on Thursday evenings\, November 6\, 13\, and 20\, from 6–8 p.m. Eastern. Bring your dinner! We will share stories\, scripture\, and solutions to dismantle racism in our corner of God’s creation. \nAttend all sessions for certification. You can make up a session in the future if you miss one. \nRegister for this training here. \nEmail Miriam McKenney to learn more. \nIf this training is full\, sign up for the waiting list here.
URL:https://standrewspickerington.com/event/dismantling-racism-training-1125/
LOCATION:OH
ATTACH;FMTTYPE=image/jpeg:https://standrewspickerington.com/wp-content/uploads/2025/05/Diocese-of-Southern-Ohio-event-2025-event-img.jpg
END:VEVENT
BEGIN:VEVENT
DTSTART;VALUE=DATE:20251114
DTEND;VALUE=DATE:20251116
DTSTAMP:20260424T203743
CREATED:20250905T172449Z
LAST-MODIFIED:20250905T172520Z
UID:2182-1763078400-1763251199@standrewspickerington.com
SUMMARY:151st Annual Convention Diocesan Convention in Hamilton Ohio
DESCRIPTION:The 151st annual Convention of the Diocese of Southern Ohio will be held November 14-15 at the Champion Mill Conference Center at Spooky Nook in Hamilton\, Ohio. More information available on Diocesan website.
URL:https://standrewspickerington.com/event/151st-annual-convention-diocesan-convention-in-hamilton-ohio/
LOCATION:OH
ATTACH;FMTTYPE=image/jpeg:https://standrewspickerington.com/wp-content/uploads/2025/05/Diocese-of-Southern-Ohio-event-2025-event-img.jpg
END:VEVENT
BEGIN:VEVENT
DTSTART;TZID=America/New_York:20251120T130000
DTEND;TZID=America/New_York:20251120T150000
DTSTAMP:20260424T203743
CREATED:20251027T153056Z
LAST-MODIFIED:20251027T153056Z
UID:2271-1763643600-1763650800@standrewspickerington.com
SUMMARY:Emanuele Fontanini Ornament Signing at Generations Religious Gifts
DESCRIPTION:Emanuele Fontanini will be signing ornaments at Generations Religious Gifts\, 1095 Dublin Rd\, 43215.
URL:https://standrewspickerington.com/event/emanuele-fontanini-ornament-signing-at-generations-religious-gifts/
LOCATION:Generations Religious Gifts\, 1095 Dublin Road\, Columbus\, OH\, 43215\, United States
ATTACH;FMTTYPE=image/jpeg:https://standrewspickerington.com/wp-content/uploads/2025/10/fontanini-ornament-signing-sta-event-hero-imgs-2025.jpg
ORGANIZER;CN="Generations Religious Gifts":MAILTO:info@generationsreligiousgifts.com
END:VEVENT
BEGIN:VEVENT
DTSTART;TZID=America/New_York:20251129T150000
DTEND;TZID=America/New_York:20251129T173000
DTSTAMP:20260424T203743
CREATED:20251109T195336Z
LAST-MODIFIED:20251109T195416Z
UID:2327-1764428400-1764437400@standrewspickerington.com
SUMMARY:Foraging for Advent Annual Event
DESCRIPTION:Join us at Procter Center for their Third Annual Foraging for Advent Event as we explore the season through our exploration of our natural world. \nThis fun event for all ages includes: \n\nForaging and hiking around Lake Leo in search of branches\, berries\, pinecones\, and more to build and decorate our Advent wreaths\nS’Mores & Hot Chocolate Bar\nCandle Making\nBlessing of the Advent Wreaths\nGames\n\nThis event is great for individuals\, church groups\, community groups\, families\, couples\, and more. Anyone and everyone is invited; minors must be accompanied by their responsible adults. \nBring a warm coat and gloves\, some shoes for easy hiking\, and a friend! We’ll provide the tools needed for cutting shrubbery and the bases for building the wreaths. Enjoy hot cocoa by the fire\, roast some s’mores\, and build a beautiful wreath to enjoy all of Advent. \nSaturday\, November 29th\n3-5:30 pm \nProcter Center\n11235 St. Rt. 38 SE\nLondon\, OH 43140\nproctercenter.org
URL:https://standrewspickerington.com/event/foraging-for-advent-annual-event/
LOCATION:The Procter Center\, 11235 St. Rt. 38 SE\, London\, OH\, 43140\, United States
ATTACH;FMTTYPE=image/jpeg:https://standrewspickerington.com/wp-content/uploads/2025/11/procter-foraging-for-advent-event-sta-event-hero-imgs-2025.jpg
ORGANIZER;CN="The Procter Center":MAILTO:info@proctercenter.org
END:VEVENT
END:VCALENDAR