BEGIN:VCALENDAR
VERSION:2.0
PRODID:-//St. Andrew&#039;s Episcopal Church - ECPv6.15.20//NONSGML v1.0//EN
CALSCALE:GREGORIAN
METHOD:PUBLISH
X-WR-CALNAME:St. Andrew&#039;s Episcopal Church
X-ORIGINAL-URL:https://standrewspickerington.com
X-WR-CALDESC:Events for St. Andrew&#039;s Episcopal Church
REFRESH-INTERVAL;VALUE=DURATION:PT1H
X-Robots-Tag:noindex
X-PUBLISHED-TTL:PT1H
BEGIN:VTIMEZONE
TZID:America/New_York
BEGIN:DAYLIGHT
TZOFFSETFROM:-0500
TZOFFSETTO:-0400
TZNAME:EDT
DTSTART:20240310T070000
END:DAYLIGHT
BEGIN:STANDARD
TZOFFSETFROM:-0400
TZOFFSETTO:-0500
TZNAME:EST
DTSTART:20241103T060000
END:STANDARD
BEGIN:DAYLIGHT
TZOFFSETFROM:-0500
TZOFFSETTO:-0400
TZNAME:EDT
DTSTART:20250309T070000
END:DAYLIGHT
BEGIN:STANDARD
TZOFFSETFROM:-0400
TZOFFSETTO:-0500
TZNAME:EST
DTSTART:20251102T060000
END:STANDARD
BEGIN:DAYLIGHT
TZOFFSETFROM:-0500
TZOFFSETTO:-0400
TZNAME:EDT
DTSTART:20260308T070000
END:DAYLIGHT
BEGIN:STANDARD
TZOFFSETFROM:-0400
TZOFFSETTO:-0500
TZNAME:EST
DTSTART:20261101T060000
END:STANDARD
END:VTIMEZONE
BEGIN:VEVENT
DTSTART;TZID=America/New_York:20251202T120000
DTEND;TZID=America/New_York:20251202T130000
DTSTAMP:20260424T185936
CREATED:20251109T195745Z
LAST-MODIFIED:20251109T200141Z
UID:2330-1764676800-1764680400@standrewspickerington.com
SUMMARY:Dismantling Racism Training – December Series
DESCRIPTION:Receive the canonically required anti-racism certification by completing this course via Zoom with Miriam McKenney\, Missioner for Beloved Community\, and co-leaders. Miriam uses picture books in this training to discover\, explore\, discuss\, and share stories. We’ll explore topics you may not have learned about in your formal education but are crucial to our understanding as we work to repair\, heal\, and see God in each other. \nThis course is on Tuesday\, Wednesday\, and Thursday afternoons\, December 2\, 3\, 4\, 9\, 10\, and 11\, from noon to 1 p.m. Eastern. Bring your lunch! We will share stories\, scripture\, and solutions to dismantle racism in our corner of God’s creation. \nAttend all sessions for certification. You can make up a session in the future if you miss one. \nRegister for this training here. \nEmail Miriam McKenney to learn more. \nIf this training is full\, sign up for the waiting list here.
URL:https://standrewspickerington.com/event/dismantling-racism-training-1225/
LOCATION:OH
ATTACH;FMTTYPE=image/jpeg:https://standrewspickerington.com/wp-content/uploads/2025/05/Diocese-of-Southern-Ohio-event-2025-event-img.jpg
END:VEVENT
BEGIN:VEVENT
DTSTART;TZID=America/New_York:20251203T180000
DTEND;TZID=America/New_York:20251203T193000
DTSTAMP:20260424T185936
CREATED:20251027T151321Z
LAST-MODIFIED:20251027T151518Z
UID:2269-1764784800-1764790200@standrewspickerington.com
SUMMARY:Proud Episcopalian – First Wednesday Service at Trinity Episcopal Church on Capitol Square
DESCRIPTION:Columbus-Area LGBTQ+ Affinity Group\nWe’ll attend the First Wednesday Service at Trinity Episcopal Church on Capitol Square (125 E Broad St\, Columbus OH 43215). This contemplative worship service features a conversational sermon and Holy Communion around a shared simple supper. To assist with planning\, please RSVP if you plan to attend. Contact Liz at lgbtq-columbus@diosohio.org for more information.
URL:https://standrewspickerington.com/event/proud-episcopalian-first-wednesday-service-at-trinity-episcopal-church-on-capitol-square/
LOCATION:Trinity Capitol Square\, 125 E Broad St.\, Columbus\, 43215\, United States
ATTACH;FMTTYPE=image/jpeg:https://standrewspickerington.com/wp-content/uploads/2025/09/proud-episcopalian-event-sta-event-hero-imgs-2025.jpg
ORGANIZER;CN="Columbus-Area LGBTQ+ Affinity Grouop":MAILTO:alex.wenning@gmail.com
END:VEVENT
BEGIN:VEVENT
DTSTART;TZID=America/New_York:20251206T110000
DTEND;TZID=America/New_York:20251206T123000
DTSTAMP:20260424T185936
CREATED:20251109T201545Z
LAST-MODIFIED:20251109T201545Z
UID:2334-1765018800-1765024200@standrewspickerington.com
SUMMARY:Diaconal Ordination – Plote & Tompkins
DESCRIPTION:By the Grace of God and with the consent of the People\, The Rt. Rev. Kristin Uffelman White Tenth Bishop of Southern Ohio will ordain \nMaryJane Plote\nThomas J. Tompkins \nto the Sacred Order of Deacons\nin Christ’s One\, Holy\, Catholic\, and Apostolic Church on Saturday\, December 6th\, 2025 at 11:00 am Commemorating the Feast of St. Nicholas \nChrist Church Cathedral\n318 E. 4th Street\, Cincinnati\, OH 45202 \ncincinnaticathedral.com \nYour prayers and presence are requested. \nA livestream will be available and shared to the Diocese of Southern Ohio Facebook Page. \nA reception will follow the service.\nClergy are invited to vest and process in choir dress with white stoles.
URL:https://standrewspickerington.com/event/diaconal-ordination-plote-tompkins/
LOCATION:Christ Church Cathedral\, 318 E. 4th Street\, Cincinnati\, OH\, United States
ATTACH;FMTTYPE=image/jpeg:https://standrewspickerington.com/wp-content/uploads/2025/05/Diocese-of-Southern-Ohio-event-2025-event-img.jpg
END:VEVENT
BEGIN:VEVENT
DTSTART;VALUE=DATE:20251212
DTEND;VALUE=DATE:20251214
DTSTAMP:20260424T185936
CREATED:20251109T202021Z
LAST-MODIFIED:20251109T202021Z
UID:2337-1765497600-1765670399@standrewspickerington.com
SUMMARY:Governing Bodies Retreat
DESCRIPTION:Check https://diosohio.org/event/governing-bodies-retreat/ for more information.
URL:https://standrewspickerington.com/event/governing-bodies-retreat-1225/
LOCATION:The Procter Center\, 11235 St. Rt. 38 SE\, London\, OH\, 43140\, United States
ATTACH;FMTTYPE=image/jpeg:https://standrewspickerington.com/wp-content/uploads/2025/05/Diocese-of-Southern-Ohio-event-2025-event-img.jpg
END:VEVENT
BEGIN:VEVENT
DTSTART;TZID=America/New_York:20251214T183000
DTEND;TZID=America/New_York:20251214T193000
DTSTAMP:20260424T185936
CREATED:20251212T221937Z
LAST-MODIFIED:20251212T221937Z
UID:2390-1765737000-1765740600@standrewspickerington.com
SUMMARY:Christmas with Capriccio!
DESCRIPTION:Reminder: Grant sings in this choir!
URL:https://standrewspickerington.com/event/christmas-with-capriccio/
LOCATION:Westerville Community UCC\, 770 County Line Rd.\, Westerville\, OH\, United States
ATTACH;FMTTYPE=image/jpeg:https://standrewspickerington.com/wp-content/uploads/2025/12/Christmas-with-Capriccio-1225.jpg
ORGANIZER;CN="Westerville Community UCC":MAILTO:wcucc@westervillecucc.org
END:VEVENT
END:VCALENDAR