BEGIN:VCALENDAR
VERSION:2.0
PRODID:-//St. Andrew&#039;s Episcopal Church - ECPv6.15.20//NONSGML v1.0//EN
CALSCALE:GREGORIAN
METHOD:PUBLISH
X-ORIGINAL-URL:https://standrewspickerington.com
X-WR-CALDESC:Events for St. Andrew&#039;s Episcopal Church
REFRESH-INTERVAL;VALUE=DURATION:PT1H
X-Robots-Tag:noindex
X-PUBLISHED-TTL:PT1H
BEGIN:VTIMEZONE
TZID:America/New_York
BEGIN:DAYLIGHT
TZOFFSETFROM:-0500
TZOFFSETTO:-0400
TZNAME:EDT
DTSTART:20250309T070000
END:DAYLIGHT
BEGIN:STANDARD
TZOFFSETFROM:-0400
TZOFFSETTO:-0500
TZNAME:EST
DTSTART:20251102T060000
END:STANDARD
BEGIN:DAYLIGHT
TZOFFSETFROM:-0500
TZOFFSETTO:-0400
TZNAME:EDT
DTSTART:20260308T070000
END:DAYLIGHT
BEGIN:STANDARD
TZOFFSETFROM:-0400
TZOFFSETTO:-0500
TZNAME:EST
DTSTART:20261101T060000
END:STANDARD
BEGIN:DAYLIGHT
TZOFFSETFROM:-0500
TZOFFSETTO:-0400
TZNAME:EDT
DTSTART:20270314T070000
END:DAYLIGHT
BEGIN:STANDARD
TZOFFSETFROM:-0400
TZOFFSETTO:-0500
TZNAME:EST
DTSTART:20271107T060000
END:STANDARD
END:VTIMEZONE
BEGIN:VEVENT
DTSTART;TZID=America/New_York:20260121T180000
DTEND;TZID=America/New_York:20260121T190000
DTSTAMP:20260424T173401
CREATED:20251205T140935Z
LAST-MODIFIED:20251205T140935Z
UID:2381-1769018400-1769022000@standrewspickerington.com
SUMMARY:St. Philip's\, Columbus - Celebration of New Ministry and Installation of Rev. Christopher Richardson
DESCRIPTION:St. Philip’s\, Columbus\nThe Rt. Rev. Kristin Uffelman White\, Tenth Bishop of the Episcopal Diocese of Southern Ohio\, and the people of St. Philip Episcopal Church in Columbus\, Ohio\, cordially invite our wider diocese to join us for a celebration of new ministry and the installation of our new rector\, the Rev. Christopher Richardson on Wednesday\, January 21st\, 2026 at 6:00 pm. \nA celebratory reception will follow the service.\nClergy are invited to vest and process (red stoles). \nSt. Philip Episcopal Church\, 166 Woodland Ave.\, Columbus\, OH 43203\, stphilipscolumbus.org
URL:https://standrewspickerington.com/event/st-philips-columbus-celebration-of-new-ministry-and-installation-of-rev-christopher-richardson/
LOCATION:St. Philip’s\, Columbus\, 166 Woodland Ave.\, Columbus\, OH\, 43203\, United States
ATTACH;FMTTYPE=image/jpeg:https://standrewspickerington.com/wp-content/uploads/2025/05/Diocese-of-Southern-Ohio-event-2025-event-img.jpg
END:VEVENT
END:VCALENDAR