BEGIN:VCALENDAR
VERSION:2.0
PRODID:-//St. Andrew&#039;s Episcopal Church - ECPv6.15.20//NONSGML v1.0//EN
CALSCALE:GREGORIAN
METHOD:PUBLISH
X-ORIGINAL-URL:https://standrewspickerington.com
X-WR-CALDESC:Events for St. Andrew&#039;s Episcopal Church
REFRESH-INTERVAL;VALUE=DURATION:PT1H
X-Robots-Tag:noindex
X-PUBLISHED-TTL:PT1H
BEGIN:VTIMEZONE
TZID:America/New_York
BEGIN:DAYLIGHT
TZOFFSETFROM:-0500
TZOFFSETTO:-0400
TZNAME:EDT
DTSTART:20250309T070000
END:DAYLIGHT
BEGIN:STANDARD
TZOFFSETFROM:-0400
TZOFFSETTO:-0500
TZNAME:EST
DTSTART:20251102T060000
END:STANDARD
BEGIN:DAYLIGHT
TZOFFSETFROM:-0500
TZOFFSETTO:-0400
TZNAME:EDT
DTSTART:20260308T070000
END:DAYLIGHT
BEGIN:STANDARD
TZOFFSETFROM:-0400
TZOFFSETTO:-0500
TZNAME:EST
DTSTART:20261101T060000
END:STANDARD
BEGIN:DAYLIGHT
TZOFFSETFROM:-0500
TZOFFSETTO:-0400
TZNAME:EDT
DTSTART:20270314T070000
END:DAYLIGHT
BEGIN:STANDARD
TZOFFSETFROM:-0400
TZOFFSETTO:-0500
TZNAME:EST
DTSTART:20271107T060000
END:STANDARD
END:VTIMEZONE
BEGIN:VEVENT
DTSTART;TZID=America/New_York:20260302T190000
DTEND;TZID=America/New_York:20260302T203000
DTSTAMP:20260424T145225
CREATED:20260220T030644Z
LAST-MODIFIED:20260220T030655Z
UID:2559-1772478000-1772483400@standrewspickerington.com
SUMMARY:Lenten School 2026: The Glory of God is a Human Person Fully Alive
DESCRIPTION:Monday Evenings\, February 23 – March 23\, 7:00 PM – 8:30 PM\nA free offering taking place at St. John’s\, Worthington\n(700 High Street\, Worthington). \nThis Lent\, join us for a series of five presentations that follow Jesus through cycles of death and rebirth. Every evening we will have one plenary session followed by small group discussion and prayer. The presenters for this year’s Lenten School are: \nMarch 2 – John Florian presenting on Jesus’s Laments and the question of how we accept the end of things and learn to let go. John is a hospice chaplain and a musician who will be presenting through the lens of both hospice stories and songs. \nMarch 9 – Sr. Janice Bachman presenting on the Temptations in the Wilderness and how to talk to God when we’re discerning. Janice Bachman\, a Dominican Sister of Peace\, is a spiritual director and Jungian Analyst who will lead us in an experiential process on how we talk to God when we are discerning. \nMarch 16 – Aaron Rogers presenting on John the Baptist and the question of who is calling us out of our assumptions about how life should be. Aaron is the Missioner for Black Ministries for the diocese and a powerful preacher and presenter. \nMarch 23 – Joseph Kovitch presenting on Healing and how individuals and communities adjust to new ways of being after healing takes place. Joe will guide our conversation on healing through the lens of his work as a pediatric chaplain and someone who lives with a disability.
URL:https://standrewspickerington.com/event/lenten-school-2026-the-glory-of-god-is-a-human-person-fully-alive-2/
LOCATION:St. John’s Episcopal Church Worthington\, 700 High Street\, Worthington\, OH\, 43085\, United States
ATTACH;FMTTYPE=image/webp:https://standrewspickerington.com/wp-content/uploads/2026/02/worthington-lentenschool-event-hero-img-2026.webp
ORGANIZER;CN="St. John's Episcopal Church Worthington":MAILTO:officesjw@stjohnsworthington.org
END:VEVENT
BEGIN:VEVENT
DTSTART;TZID=America/New_York:20260309T190000
DTEND;TZID=America/New_York:20260309T203000
DTSTAMP:20260424T145225
CREATED:20260220T030745Z
LAST-MODIFIED:20260220T030745Z
UID:2562-1773082800-1773088200@standrewspickerington.com
SUMMARY:Lenten School 2026: The Glory of God is a Human Person Fully Alive
DESCRIPTION:Monday Evenings\, February 23 – March 23\, 7:00 PM – 8:30 PM\nA free offering taking place at St. John’s\, Worthington\n(700 High Street\, Worthington). \nThis Lent\, join us for a series of five presentations that follow Jesus through cycles of death and rebirth. Every evening we will have one plenary session followed by small group discussion and prayer. The presenters for this year’s Lenten School are: \nMarch 9 – Sr. Janice Bachman presenting on the Temptations in the Wilderness and how to talk to God when we’re discerning. Janice Bachman\, a Dominican Sister of Peace\, is a spiritual director and Jungian Analyst who will lead us in an experiential process on how we talk to God when we are discerning. \nMarch 16 – Aaron Rogers presenting on John the Baptist and the question of who is calling us out of our assumptions about how life should be. Aaron is the Missioner for Black Ministries for the diocese and a powerful preacher and presenter. \nMarch 23 – Joseph Kovitch presenting on Healing and how individuals and communities adjust to new ways of being after healing takes place. Joe will guide our conversation on healing through the lens of his work as a pediatric chaplain and someone who lives with a disability.
URL:https://standrewspickerington.com/event/lenten-school-2026-the-glory-of-god-is-a-human-person-fully-alive-3/
LOCATION:St. John’s Episcopal Church Worthington\, 700 High Street\, Worthington\, OH\, 43085\, United States
ATTACH;FMTTYPE=image/webp:https://standrewspickerington.com/wp-content/uploads/2026/02/worthington-lentenschool-event-hero-img-2026.webp
ORGANIZER;CN="St. John's Episcopal Church Worthington":MAILTO:officesjw@stjohnsworthington.org
END:VEVENT
BEGIN:VEVENT
DTSTART;TZID=America/New_York:20260316T190000
DTEND;TZID=America/New_York:20260316T203000
DTSTAMP:20260424T145225
CREATED:20260220T030831Z
LAST-MODIFIED:20260220T030831Z
UID:2564-1773687600-1773693000@standrewspickerington.com
SUMMARY:Lenten School 2026: The Glory of God is a Human Person Fully Alive
DESCRIPTION:Monday Evenings\, February 23 – March 23\, 7:00 PM – 8:30 PM\nA free offering taking place at St. John’s\, Worthington\n(700 High Street\, Worthington). \nThis Lent\, join us for a series of five presentations that follow Jesus through cycles of death and rebirth. Every evening we will have one plenary session followed by small group discussion and prayer. The presenters for this year’s Lenten School are: \nMarch 16 – Aaron Rogers presenting on John the Baptist and the question of who is calling us out of our assumptions about how life should be. Aaron is the Missioner for Black Ministries for the diocese and a powerful preacher and presenter. \nMarch 23 – Joseph Kovitch presenting on Healing and how individuals and communities adjust to new ways of being after healing takes place. Joe will guide our conversation on healing through the lens of his work as a pediatric chaplain and someone who lives with a disability.
URL:https://standrewspickerington.com/event/lenten-school-2026-the-glory-of-god-is-a-human-person-fully-alive-4/
LOCATION:St. John’s Episcopal Church Worthington\, 700 High Street\, Worthington\, OH\, 43085\, United States
ATTACH;FMTTYPE=image/webp:https://standrewspickerington.com/wp-content/uploads/2026/02/worthington-lentenschool-event-hero-img-2026.webp
ORGANIZER;CN="St. John's Episcopal Church Worthington":MAILTO:officesjw@stjohnsworthington.org
END:VEVENT
BEGIN:VEVENT
DTSTART;TZID=America/New_York:20260323T190000
DTEND;TZID=America/New_York:20260323T203000
DTSTAMP:20260424T145225
CREATED:20260220T030925Z
LAST-MODIFIED:20260220T030925Z
UID:2566-1774292400-1774297800@standrewspickerington.com
SUMMARY:Lenten School 2026: The Glory of God is a Human Person Fully Alive
DESCRIPTION:Monday Evenings\, February 23 – March 23\, 7:00 PM – 8:30 PM\nA free offering taking place at St. John’s\, Worthington\n(700 High Street\, Worthington). \nThis Lent\, join us for a series of five presentations that follow Jesus through cycles of death and rebirth. Every evening we will have one plenary session followed by small group discussion and prayer. The presenters for this year’s Lenten School are: \nMarch 23 – Joseph Kovitch presenting on Healing and how individuals and communities adjust to new ways of being after healing takes place. Joe will guide our conversation on healing through the lens of his work as a pediatric chaplain and someone who lives with a disability.
URL:https://standrewspickerington.com/event/lenten-school-2026-the-glory-of-god-is-a-human-person-fully-alive-5/
LOCATION:St. John’s Episcopal Church Worthington\, 700 High Street\, Worthington\, OH\, 43085\, United States
ATTACH;FMTTYPE=image/webp:https://standrewspickerington.com/wp-content/uploads/2026/02/worthington-lentenschool-event-hero-img-2026.webp
ORGANIZER;CN="St. John's Episcopal Church Worthington":MAILTO:officesjw@stjohnsworthington.org
END:VEVENT
END:VCALENDAR