BEGIN:VCALENDAR
VERSION:2.0
PRODID:-//St. Andrew&#039;s Episcopal Church - ECPv6.15.20//NONSGML v1.0//EN
CALSCALE:GREGORIAN
METHOD:PUBLISH
X-ORIGINAL-URL:https://standrewspickerington.com
X-WR-CALDESC:Events for St. Andrew&#039;s Episcopal Church
REFRESH-INTERVAL;VALUE=DURATION:PT1H
X-Robots-Tag:noindex
X-PUBLISHED-TTL:PT1H
BEGIN:VTIMEZONE
TZID:America/New_York
BEGIN:DAYLIGHT
TZOFFSETFROM:-0500
TZOFFSETTO:-0400
TZNAME:EDT
DTSTART:20240310T070000
END:DAYLIGHT
BEGIN:STANDARD
TZOFFSETFROM:-0400
TZOFFSETTO:-0500
TZNAME:EST
DTSTART:20241103T060000
END:STANDARD
BEGIN:DAYLIGHT
TZOFFSETFROM:-0500
TZOFFSETTO:-0400
TZNAME:EDT
DTSTART:20250309T070000
END:DAYLIGHT
BEGIN:STANDARD
TZOFFSETFROM:-0400
TZOFFSETTO:-0500
TZNAME:EST
DTSTART:20251102T060000
END:STANDARD
BEGIN:DAYLIGHT
TZOFFSETFROM:-0500
TZOFFSETTO:-0400
TZNAME:EDT
DTSTART:20260308T070000
END:DAYLIGHT
BEGIN:STANDARD
TZOFFSETFROM:-0400
TZOFFSETTO:-0500
TZNAME:EST
DTSTART:20261101T060000
END:STANDARD
END:VTIMEZONE
BEGIN:VEVENT
DTSTART;TZID=America/New_York:20250928T114500
DTEND;TZID=America/New_York:20250928T140000
DTSTAMP:20260424T235502
CREATED:20250902T140520Z
LAST-MODIFIED:20250902T141109Z
UID:2168-1759059900-1759068000@standrewspickerington.com
SUMMARY:Proud Episcopalian – Parish Potluck & Gallery Tour
DESCRIPTION:Columbus-Area LGBTQ+ Affinity Group\nJoining at St. Stephen’s (30 W. Woodruff\, Ave\, Columbus 43210) for their monthly parish potluck in Hobson Hall. Please bring a dish to share. \nAt 1 PM\, we’ll walk to the Wexner Center for the Arts (1871 N. High St\, Columbus 43210) to tour galleries (complimentary admission). You’re invited & welcome even if you’re only able to do one of activities. \nThe affinity group for LGBTQ+ individuals and allies in the Columbus area promotes on-going fellowship and conversation. For more information\, contact Alex at lgbtq-columbus@diosohio.org.
URL:https://standrewspickerington.com/event/proud-episcopalian-potluck-gallery-tour-092825/
LOCATION:St. Stephen’s\, 30 W. Woodruff Ave.\, Columbus\, 43210\, United States
ATTACH;FMTTYPE=image/jpeg:https://standrewspickerington.com/wp-content/uploads/2025/09/proud-episcopalian-event-sta-event-hero-imgs-2025.jpg
ORGANIZER;CN="Columbus-Area LGBTQ+ Affinity Grouop":MAILTO:alex.wenning@gmail.com
END:VEVENT
END:VCALENDAR