BEGIN:VCALENDAR
VERSION:2.0
PRODID:-//St. Andrew&#039;s Episcopal Church - ECPv6.15.20//NONSGML v1.0//EN
CALSCALE:GREGORIAN
METHOD:PUBLISH
X-WR-CALNAME:St. Andrew&#039;s Episcopal Church
X-ORIGINAL-URL:https://standrewspickerington.com
X-WR-CALDESC:Events for St. Andrew&#039;s Episcopal Church
REFRESH-INTERVAL;VALUE=DURATION:PT1H
X-Robots-Tag:noindex
X-PUBLISHED-TTL:PT1H
BEGIN:VTIMEZONE
TZID:America/New_York
BEGIN:DAYLIGHT
TZOFFSETFROM:-0500
TZOFFSETTO:-0400
TZNAME:EDT
DTSTART:20240310T070000
END:DAYLIGHT
BEGIN:STANDARD
TZOFFSETFROM:-0400
TZOFFSETTO:-0500
TZNAME:EST
DTSTART:20241103T060000
END:STANDARD
BEGIN:DAYLIGHT
TZOFFSETFROM:-0500
TZOFFSETTO:-0400
TZNAME:EDT
DTSTART:20250309T070000
END:DAYLIGHT
BEGIN:STANDARD
TZOFFSETFROM:-0400
TZOFFSETTO:-0500
TZNAME:EST
DTSTART:20251102T060000
END:STANDARD
BEGIN:DAYLIGHT
TZOFFSETFROM:-0500
TZOFFSETTO:-0400
TZNAME:EDT
DTSTART:20260308T070000
END:DAYLIGHT
BEGIN:STANDARD
TZOFFSETFROM:-0400
TZOFFSETTO:-0500
TZNAME:EST
DTSTART:20261101T060000
END:STANDARD
END:VTIMEZONE
BEGIN:VEVENT
DTSTART;TZID=America/New_York:20251005T160000
DTEND;TZID=America/New_York:20251005T170000
DTSTAMP:20260424T235240
CREATED:20250926T164158Z
LAST-MODIFIED:20250926T164515Z
UID:2204-1759680000-1759683600@standrewspickerington.com
SUMMARY:Celtic Service at St. John’s\, Worthington
DESCRIPTION:On October 5\, the Celtic Service will begin its thirteenth year with its traditional October celebration of all creatures great and small in honor of St. Francis. \nThe Celtic service is a quiet\, meditative service with music\, prayers of concern with the lighting of candles\, a time of silence\, and affirmations of faith based on the liturgy of the Iona Abbey Worship Book. The service is 40 – 45 minutes long and is followed by a time of fellowship and hospitality. Please come and celebrate God’s creatures with us on October 5th. \nLike in previous years\, we would like to ask you to donate some spare change to purchase cat and dog food for the Worthington Food Pantry. They are always delighted to have food for the pets of their clients on hand.
URL:https://standrewspickerington.com/event/celtic-service-st-johns-worthington-100525/
LOCATION:St. John’s Episcopal Church Worthington\, 700 High Street\, Worthington\, OH\, 43085\, United States
ATTACH;FMTTYPE=image/jpeg:https://standrewspickerington.com/wp-content/uploads/2025/05/st-johns-celtic-service-04-2025-event-img.jpg
ORGANIZER;CN="St. John's Episcopal Church Worthington":MAILTO:officesjw@stjohnsworthington.org
END:VEVENT
END:VCALENDAR