BEGIN:VCALENDAR
VERSION:2.0
PRODID:-//St. Andrew&#039;s Episcopal Church - ECPv6.15.20//NONSGML v1.0//EN
CALSCALE:GREGORIAN
METHOD:PUBLISH
X-WR-CALNAME:St. Andrew&#039;s Episcopal Church
X-ORIGINAL-URL:https://standrewspickerington.com
X-WR-CALDESC:Events for St. Andrew&#039;s Episcopal Church
REFRESH-INTERVAL;VALUE=DURATION:PT1H
X-Robots-Tag:noindex
X-PUBLISHED-TTL:PT1H
BEGIN:VTIMEZONE
TZID:America/New_York
BEGIN:DAYLIGHT
TZOFFSETFROM:-0500
TZOFFSETTO:-0400
TZNAME:EDT
DTSTART:20250309T070000
END:DAYLIGHT
BEGIN:STANDARD
TZOFFSETFROM:-0400
TZOFFSETTO:-0500
TZNAME:EST
DTSTART:20251102T060000
END:STANDARD
BEGIN:DAYLIGHT
TZOFFSETFROM:-0500
TZOFFSETTO:-0400
TZNAME:EDT
DTSTART:20260308T070000
END:DAYLIGHT
BEGIN:STANDARD
TZOFFSETFROM:-0400
TZOFFSETTO:-0500
TZNAME:EST
DTSTART:20261101T060000
END:STANDARD
BEGIN:DAYLIGHT
TZOFFSETFROM:-0500
TZOFFSETTO:-0400
TZNAME:EDT
DTSTART:20270314T070000
END:DAYLIGHT
BEGIN:STANDARD
TZOFFSETFROM:-0400
TZOFFSETTO:-0500
TZNAME:EST
DTSTART:20271107T060000
END:STANDARD
END:VTIMEZONE
BEGIN:VEVENT
DTSTART;TZID=America/New_York:20260304T190000
DTEND;TZID=America/New_York:20260304T200000
DTSTAMP:20260424T210229
CREATED:20260228T032421Z
LAST-MODIFIED:20260228T032421Z
UID:2597-1772650800-1772654400@standrewspickerington.com
SUMMARY:Choir Rehearsal
DESCRIPTION:
URL:https://standrewspickerington.com/event/choir-rehearsal-030426/
LOCATION:St. Andrew’s Episcopal Church\, 8630 Refugee Road\, Pickerington\, Ohio\, 43147\, United States
ATTACH;FMTTYPE=image/jpeg:https://standrewspickerington.com/wp-content/uploads/2025/04/sta-choir-rehearsal-2025-event-img.jpg
ORGANIZER;CN="St. Andrew%E2%80%99s Episcopal Church":MAILTO:office@standrewspickerington.org
END:VEVENT
BEGIN:VEVENT
DTSTART;TZID=America/New_York:20260322T113000
DTEND;TZID=America/New_York:20260322T123000
DTSTAMP:20260424T210229
CREATED:20260306T162830Z
LAST-MODIFIED:20260306T162830Z
UID:2610-1774179000-1774182600@standrewspickerington.com
SUMMARY:Flash Easter Choir Rehearsal
DESCRIPTION:If you cannot commit to singing all of lent\, the second opportunity we are offering is a Flash Choir that we are forming for Easter Sunday. This is your one-time opportunity to join the choir as we raise our Alleluias on Easter morning. \nThere will be two quick rehearsals on Sunday March 22nd and March 29th after worship.  Music and a music video link will be provided to all participating. We will be singing “Alleluia” arranged by Ed Harris. Many will recognize this rousing and fun piece. Please let Eric Saupe know if you plan to participate before Sunday April 6\, 2025.  Eric.Saupe@standrewspickerington.org.  614-506-8101.
URL:https://standrewspickerington.com/event/flash-easter-choir-rehearsal/
LOCATION:St. Andrew’s Episcopal Church\, 8630 Refugee Road\, Pickerington\, Ohio\, 43147\, United States
ATTACH;FMTTYPE=image/webp:https://standrewspickerington.com/wp-content/uploads/2026/03/flash-easter-choir-sta-event-hero-img-2026.webp
ORGANIZER;CN="St. Andrew%E2%80%99s Episcopal Church":MAILTO:office@standrewspickerington.org
END:VEVENT
BEGIN:VEVENT
DTSTART;TZID=America/New_York:20260329T113000
DTEND;TZID=America/New_York:20260329T123000
DTSTAMP:20260424T210229
CREATED:20260306T162926Z
LAST-MODIFIED:20260306T162926Z
UID:2613-1774783800-1774787400@standrewspickerington.com
SUMMARY:Flash Easter Choir Rehearsal
DESCRIPTION:If you cannot commit to singing all of lent\, the second opportunity we are offering is a Flash Choir that we are forming for Easter Sunday. This is your one-time opportunity to join the choir as we raise our Alleluias on Easter morning. \nThere will be two quick rehearsals on Sunday March 22nd and March 29th after worship.  Music and a music video link will be provided to all participating. We will be singing “Alleluia” arranged by Ed Harris. Many will recognize this rousing and fun piece. Please let Eric Saupe know if you plan to participate before Sunday April 6\, 2025.  Eric.Saupe@standrewspickerington.org.  614-506-8101.
URL:https://standrewspickerington.com/event/flash-easter-choir-rehearsal-032926/
LOCATION:St. Andrew’s Episcopal Church\, 8630 Refugee Road\, Pickerington\, Ohio\, 43147\, United States
ATTACH;FMTTYPE=image/webp:https://standrewspickerington.com/wp-content/uploads/2026/03/flash-easter-choir-sta-event-hero-img-2026.webp
ORGANIZER;CN="St. Andrew%E2%80%99s Episcopal Church":MAILTO:office@standrewspickerington.org
END:VEVENT
END:VCALENDAR