BEGIN:VCALENDAR
VERSION:2.0
PRODID:-//St. Andrew&#039;s Episcopal Church - ECPv6.15.20//NONSGML v1.0//EN
CALSCALE:GREGORIAN
METHOD:PUBLISH
X-ORIGINAL-URL:https://standrewspickerington.com
X-WR-CALDESC:Events for St. Andrew&#039;s Episcopal Church
REFRESH-INTERVAL;VALUE=DURATION:PT1H
X-Robots-Tag:noindex
X-PUBLISHED-TTL:PT1H
BEGIN:VTIMEZONE
TZID:America/New_York
BEGIN:DAYLIGHT
TZOFFSETFROM:-0500
TZOFFSETTO:-0400
TZNAME:EDT
DTSTART:20250309T070000
END:DAYLIGHT
BEGIN:STANDARD
TZOFFSETFROM:-0400
TZOFFSETTO:-0500
TZNAME:EST
DTSTART:20251102T060000
END:STANDARD
BEGIN:DAYLIGHT
TZOFFSETFROM:-0500
TZOFFSETTO:-0400
TZNAME:EDT
DTSTART:20260308T070000
END:DAYLIGHT
BEGIN:STANDARD
TZOFFSETFROM:-0400
TZOFFSETTO:-0500
TZNAME:EST
DTSTART:20261101T060000
END:STANDARD
BEGIN:DAYLIGHT
TZOFFSETFROM:-0500
TZOFFSETTO:-0400
TZNAME:EDT
DTSTART:20270314T070000
END:DAYLIGHT
BEGIN:STANDARD
TZOFFSETFROM:-0400
TZOFFSETTO:-0500
TZNAME:EST
DTSTART:20271107T060000
END:STANDARD
END:VTIMEZONE
BEGIN:VEVENT
DTSTART;TZID=America/New_York:20260312T101500
DTEND;TZID=America/New_York:20260312T150000
DTSTAMP:20260424T224200
CREATED:20260220T031723Z
LAST-MODIFIED:20260228T033736Z
UID:2569-1773310500-1773327600@standrewspickerington.com
SUMMARY:Juliet's Journeys - Decorative Arts Center
DESCRIPTION:Leaving church at 10:15 AM \nHeartland: The Stories of Ohio Through 250 Objects\nAndrew Richmond and Hollie Davis\, Curators\nFebruary 7 – April 26\, 2026 \nOhio sits at the heart of the nation. Heartland: The Stories of Ohio Through 250 Objects invites visitors to discover the people\, ideas and moments that have defined the Buckeye State. Spanning themes of resources\, people\, conflict\, culture and change\, the exhibition features artifacts that capture both Ohio’s familiar milestones and its lesser-known stories. From handcrafted works and industrial innovations to personal mementos that shaped everyday life\, each object reveals a different facet of Ohio’s complex identity. Together\, they tell a story of ingenuity\, resilience and transformation – showing how Ohio’s communities have both reflected and influenced the nation’s journey. Heartland celebrates the shared experiences that continue to connect Ohioans to one another and to the country at large. \nLunch: Maria’s Mexican Restaurant\, 129 E. Main St.\, Lancaster OH \nPlease respond to Brenda’s email if you would like to go.
URL:https://standrewspickerington.com/event/juliets-journeys-decorative-arts-center/
LOCATION:Decorative Arts Center\, 145 E Main St.\, Lancaster\, OH\, 43130\, United States
ATTACH;FMTTYPE=image/png:https://standrewspickerington.com/wp-content/uploads/2026/02/unnamed.png
ORGANIZER;CN="St. Andrew%E2%80%99s Episcopal Church":MAILTO:office@standrewspickerington.org
END:VEVENT
END:VCALENDAR