BEGIN:VCALENDAR
VERSION:2.0
PRODID:-//St. Andrew&#039;s Episcopal Church - ECPv6.15.20//NONSGML v1.0//EN
CALSCALE:GREGORIAN
METHOD:PUBLISH
X-ORIGINAL-URL:https://standrewspickerington.com
X-WR-CALDESC:Events for St. Andrew&#039;s Episcopal Church
REFRESH-INTERVAL;VALUE=DURATION:PT1H
X-Robots-Tag:noindex
X-PUBLISHED-TTL:PT1H
BEGIN:VTIMEZONE
TZID:America/New_York
BEGIN:DAYLIGHT
TZOFFSETFROM:-0500
TZOFFSETTO:-0400
TZNAME:EDT
DTSTART:20250309T070000
END:DAYLIGHT
BEGIN:STANDARD
TZOFFSETFROM:-0400
TZOFFSETTO:-0500
TZNAME:EST
DTSTART:20251102T060000
END:STANDARD
BEGIN:DAYLIGHT
TZOFFSETFROM:-0500
TZOFFSETTO:-0400
TZNAME:EDT
DTSTART:20260308T070000
END:DAYLIGHT
BEGIN:STANDARD
TZOFFSETFROM:-0400
TZOFFSETTO:-0500
TZNAME:EST
DTSTART:20261101T060000
END:STANDARD
BEGIN:DAYLIGHT
TZOFFSETFROM:-0500
TZOFFSETTO:-0400
TZNAME:EDT
DTSTART:20270314T070000
END:DAYLIGHT
BEGIN:STANDARD
TZOFFSETFROM:-0400
TZOFFSETTO:-0500
TZNAME:EST
DTSTART:20271107T060000
END:STANDARD
END:VTIMEZONE
BEGIN:VEVENT
DTSTART;TZID=America/New_York:20260305T063000
DTEND;TZID=America/New_York:20260305T193000
DTSTAMP:20260424T221518
CREATED:20260206T232945Z
LAST-MODIFIED:20260206T233346Z
UID:2521-1772692200-1772739000@standrewspickerington.com
SUMMARY:Lenten Study
DESCRIPTION:Thursday evenings\, 6:30-7:30 PM\nMar. 5\, 12\, 19\, and 26. \n“Renewing PRAYER in our Lives” \nAs we promise to “keep a holy Lent” by engaging in these three\, Pastor Sally and Amma Susan will lead us to help us rethink\, and renew\, our practice of prayer this Lent. \nOur goal is deeper\, more intimate connection with the Holy One who is offering guidance and care to each of us every moment\, waking and sleeping. \nOur hope is to see\, receive\, and respond.
URL:https://standrewspickerington.com/event/lenten-study-030526/
LOCATION:St. Andrew’s Episcopal Church\, 8630 Refugee Road\, Pickerington\, Ohio\, 43147\, United States
ATTACH;FMTTYPE=image/webp:https://standrewspickerington.com/wp-content/uploads/2026/02/lenten-study-sta-event-hero-imgs-2026.webp
ORGANIZER;CN="St. Andrew%E2%80%99s Episcopal Church":MAILTO:office@standrewspickerington.org
END:VEVENT
END:VCALENDAR